BEGIN:VCALENDAR
VERSION:2.0
PRODID:-//FV Vaalserquartier - ECPv6.15.15//NONSGML v1.0//EN
CALSCALE:GREGORIAN
METHOD:PUBLISH
X-WR-CALNAME:FV Vaalserquartier
X-ORIGINAL-URL:https://fv-vaalserquartier.de
X-WR-CALDESC:Veranstaltungen für FV Vaalserquartier
REFRESH-INTERVAL;VALUE=DURATION:PT1H
X-Robots-Tag:noindex
X-PUBLISHED-TTL:PT1H
BEGIN:VTIMEZONE
TZID:Europe/Berlin
BEGIN:DAYLIGHT
TZOFFSETFROM:+0100
TZOFFSETTO:+0200
TZNAME:CEST
DTSTART:20230326T010000
END:DAYLIGHT
BEGIN:STANDARD
TZOFFSETFROM:+0200
TZOFFSETTO:+0100
TZNAME:CET
DTSTART:20231029T010000
END:STANDARD
BEGIN:DAYLIGHT
TZOFFSETFROM:+0100
TZOFFSETTO:+0200
TZNAME:CEST
DTSTART:20240331T010000
END:DAYLIGHT
BEGIN:STANDARD
TZOFFSETFROM:+0200
TZOFFSETTO:+0100
TZNAME:CET
DTSTART:20241027T010000
END:STANDARD
BEGIN:DAYLIGHT
TZOFFSETFROM:+0100
TZOFFSETTO:+0200
TZNAME:CEST
DTSTART:20250330T010000
END:DAYLIGHT
BEGIN:STANDARD
TZOFFSETFROM:+0200
TZOFFSETTO:+0100
TZNAME:CET
DTSTART:20251026T010000
END:STANDARD
END:VTIMEZONE
BEGIN:VEVENT
DTSTART;TZID=Europe/Berlin:20240626T163000
DTEND;TZID=Europe/Berlin:20240626T180000
DTSTAMP:20260419T164944
CREATED:20230728T092134Z
LAST-MODIFIED:20230728T092137Z
UID:10007919-1719419400-1719424800@fv-vaalserquartier.de
SUMMARY:Mädchen 2014 - Training (2024)
DESCRIPTION:
URL:https://fv-vaalserquartier.de/veranstaltung/maedchen-2014-training-2024/2024-06-26/
LOCATION:Kunstrasenplatz Alte Vaalser Straße\, Alte Vaalser Straße\, Aachen\, 52074\, Deutschland
CATEGORIES:Training
ATTACH;FMTTYPE=image/jpeg:https://fv-vaalserquartier.de/wp-content/uploads/2022/02/sportplatz_kunstrasen_.jpg
ORGANIZER;CN="M%C3%A4dchen 2014":MAILTO:jonathan.muehlen@mail.de
GEO:50.7686866;6.0296122
X-APPLE-STRUCTURED-LOCATION;VALUE=URI;X-ADDRESS=Kunstrasenplatz Alte Vaalser Straße Alte Vaalser Straße Aachen 52074 Deutschland;X-APPLE-RADIUS=500;X-TITLE=Alte Vaalser Straße:geo:6.0296122,50.7686866
END:VEVENT
BEGIN:VEVENT
DTSTART;TZID=Europe/Berlin:20240624T163000
DTEND;TZID=Europe/Berlin:20240624T180000
DTSTAMP:20260419T164944
CREATED:20230728T092134Z
LAST-MODIFIED:20230728T092137Z
UID:10007918-1719246600-1719252000@fv-vaalserquartier.de
SUMMARY:Mädchen 2014 - Training (2024)
DESCRIPTION:
URL:https://fv-vaalserquartier.de/veranstaltung/maedchen-2014-training-2024/2024-06-24/
LOCATION:Kunstrasenplatz Alte Vaalser Straße\, Alte Vaalser Straße\, Aachen\, 52074\, Deutschland
CATEGORIES:Training
ATTACH;FMTTYPE=image/jpeg:https://fv-vaalserquartier.de/wp-content/uploads/2022/02/sportplatz_kunstrasen_.jpg
ORGANIZER;CN="M%C3%A4dchen 2014":MAILTO:jonathan.muehlen@mail.de
GEO:50.7686866;6.0296122
X-APPLE-STRUCTURED-LOCATION;VALUE=URI;X-ADDRESS=Kunstrasenplatz Alte Vaalser Straße Alte Vaalser Straße Aachen 52074 Deutschland;X-APPLE-RADIUS=500;X-TITLE=Alte Vaalser Straße:geo:6.0296122,50.7686866
END:VEVENT
BEGIN:VEVENT
DTSTART;TZID=Europe/Berlin:20240619T163000
DTEND;TZID=Europe/Berlin:20240619T180000
DTSTAMP:20260419T164944
CREATED:20230728T092134Z
LAST-MODIFIED:20230728T092137Z
UID:10007917-1718814600-1718820000@fv-vaalserquartier.de
SUMMARY:Mädchen 2014 - Training (2024)
DESCRIPTION:
URL:https://fv-vaalserquartier.de/veranstaltung/maedchen-2014-training-2024/2024-06-19/
LOCATION:Kunstrasenplatz Alte Vaalser Straße\, Alte Vaalser Straße\, Aachen\, 52074\, Deutschland
CATEGORIES:Training
ATTACH;FMTTYPE=image/jpeg:https://fv-vaalserquartier.de/wp-content/uploads/2022/02/sportplatz_kunstrasen_.jpg
ORGANIZER;CN="M%C3%A4dchen 2014":MAILTO:jonathan.muehlen@mail.de
GEO:50.7686866;6.0296122
X-APPLE-STRUCTURED-LOCATION;VALUE=URI;X-ADDRESS=Kunstrasenplatz Alte Vaalser Straße Alte Vaalser Straße Aachen 52074 Deutschland;X-APPLE-RADIUS=500;X-TITLE=Alte Vaalser Straße:geo:6.0296122,50.7686866
END:VEVENT
BEGIN:VEVENT
DTSTART;TZID=Europe/Berlin:20240617T163000
DTEND;TZID=Europe/Berlin:20240617T180000
DTSTAMP:20260419T164944
CREATED:20230728T092134Z
LAST-MODIFIED:20230728T092137Z
UID:10007916-1718641800-1718647200@fv-vaalserquartier.de
SUMMARY:Mädchen 2014 - Training (2024)
DESCRIPTION:
URL:https://fv-vaalserquartier.de/veranstaltung/maedchen-2014-training-2024/2024-06-17/
LOCATION:Kunstrasenplatz Alte Vaalser Straße\, Alte Vaalser Straße\, Aachen\, 52074\, Deutschland
CATEGORIES:Training
ATTACH;FMTTYPE=image/jpeg:https://fv-vaalserquartier.de/wp-content/uploads/2022/02/sportplatz_kunstrasen_.jpg
ORGANIZER;CN="M%C3%A4dchen 2014":MAILTO:jonathan.muehlen@mail.de
GEO:50.7686866;6.0296122
X-APPLE-STRUCTURED-LOCATION;VALUE=URI;X-ADDRESS=Kunstrasenplatz Alte Vaalser Straße Alte Vaalser Straße Aachen 52074 Deutschland;X-APPLE-RADIUS=500;X-TITLE=Alte Vaalser Straße:geo:6.0296122,50.7686866
END:VEVENT
BEGIN:VEVENT
DTSTART;TZID=Europe/Berlin:20240612T163000
DTEND;TZID=Europe/Berlin:20240612T180000
DTSTAMP:20260419T164944
CREATED:20230728T092134Z
LAST-MODIFIED:20230728T092137Z
UID:10007915-1718209800-1718215200@fv-vaalserquartier.de
SUMMARY:Mädchen 2014 - Training (2024)
DESCRIPTION:
URL:https://fv-vaalserquartier.de/veranstaltung/maedchen-2014-training-2024/2024-06-12/
LOCATION:Kunstrasenplatz Alte Vaalser Straße\, Alte Vaalser Straße\, Aachen\, 52074\, Deutschland
CATEGORIES:Training
ATTACH;FMTTYPE=image/jpeg:https://fv-vaalserquartier.de/wp-content/uploads/2022/02/sportplatz_kunstrasen_.jpg
ORGANIZER;CN="M%C3%A4dchen 2014":MAILTO:jonathan.muehlen@mail.de
GEO:50.7686866;6.0296122
X-APPLE-STRUCTURED-LOCATION;VALUE=URI;X-ADDRESS=Kunstrasenplatz Alte Vaalser Straße Alte Vaalser Straße Aachen 52074 Deutschland;X-APPLE-RADIUS=500;X-TITLE=Alte Vaalser Straße:geo:6.0296122,50.7686866
END:VEVENT
BEGIN:VEVENT
DTSTART;TZID=Europe/Berlin:20240610T163000
DTEND;TZID=Europe/Berlin:20240610T180000
DTSTAMP:20260419T164944
CREATED:20230728T092134Z
LAST-MODIFIED:20230728T092137Z
UID:10007914-1718037000-1718042400@fv-vaalserquartier.de
SUMMARY:Mädchen 2014 - Training (2024)
DESCRIPTION:
URL:https://fv-vaalserquartier.de/veranstaltung/maedchen-2014-training-2024/2024-06-10/
LOCATION:Kunstrasenplatz Alte Vaalser Straße\, Alte Vaalser Straße\, Aachen\, 52074\, Deutschland
CATEGORIES:Training
ATTACH;FMTTYPE=image/jpeg:https://fv-vaalserquartier.de/wp-content/uploads/2022/02/sportplatz_kunstrasen_.jpg
ORGANIZER;CN="M%C3%A4dchen 2014":MAILTO:jonathan.muehlen@mail.de
GEO:50.7686866;6.0296122
X-APPLE-STRUCTURED-LOCATION;VALUE=URI;X-ADDRESS=Kunstrasenplatz Alte Vaalser Straße Alte Vaalser Straße Aachen 52074 Deutschland;X-APPLE-RADIUS=500;X-TITLE=Alte Vaalser Straße:geo:6.0296122,50.7686866
END:VEVENT
BEGIN:VEVENT
DTSTART;TZID=Europe/Berlin:20240605T163000
DTEND;TZID=Europe/Berlin:20240605T180000
DTSTAMP:20260419T164944
CREATED:20230728T092134Z
LAST-MODIFIED:20230728T092137Z
UID:10007913-1717605000-1717610400@fv-vaalserquartier.de
SUMMARY:Mädchen 2014 - Training (2024)
DESCRIPTION:
URL:https://fv-vaalserquartier.de/veranstaltung/maedchen-2014-training-2024/2024-06-05/
LOCATION:Kunstrasenplatz Alte Vaalser Straße\, Alte Vaalser Straße\, Aachen\, 52074\, Deutschland
CATEGORIES:Training
ATTACH;FMTTYPE=image/jpeg:https://fv-vaalserquartier.de/wp-content/uploads/2022/02/sportplatz_kunstrasen_.jpg
ORGANIZER;CN="M%C3%A4dchen 2014":MAILTO:jonathan.muehlen@mail.de
GEO:50.7686866;6.0296122
X-APPLE-STRUCTURED-LOCATION;VALUE=URI;X-ADDRESS=Kunstrasenplatz Alte Vaalser Straße Alte Vaalser Straße Aachen 52074 Deutschland;X-APPLE-RADIUS=500;X-TITLE=Alte Vaalser Straße:geo:6.0296122,50.7686866
END:VEVENT
BEGIN:VEVENT
DTSTART;TZID=Europe/Berlin:20240603T163000
DTEND;TZID=Europe/Berlin:20240603T180000
DTSTAMP:20260419T164944
CREATED:20230728T092134Z
LAST-MODIFIED:20230728T092137Z
UID:10007912-1717432200-1717437600@fv-vaalserquartier.de
SUMMARY:Mädchen 2014 - Training (2024)
DESCRIPTION:
URL:https://fv-vaalserquartier.de/veranstaltung/maedchen-2014-training-2024/2024-06-03/
LOCATION:Kunstrasenplatz Alte Vaalser Straße\, Alte Vaalser Straße\, Aachen\, 52074\, Deutschland
CATEGORIES:Training
ATTACH;FMTTYPE=image/jpeg:https://fv-vaalserquartier.de/wp-content/uploads/2022/02/sportplatz_kunstrasen_.jpg
ORGANIZER;CN="M%C3%A4dchen 2014":MAILTO:jonathan.muehlen@mail.de
GEO:50.7686866;6.0296122
X-APPLE-STRUCTURED-LOCATION;VALUE=URI;X-ADDRESS=Kunstrasenplatz Alte Vaalser Straße Alte Vaalser Straße Aachen 52074 Deutschland;X-APPLE-RADIUS=500;X-TITLE=Alte Vaalser Straße:geo:6.0296122,50.7686866
END:VEVENT
BEGIN:VEVENT
DTSTART;TZID=Europe/Berlin:20240529T163000
DTEND;TZID=Europe/Berlin:20240529T180000
DTSTAMP:20260419T164944
CREATED:20230728T092134Z
LAST-MODIFIED:20230728T092137Z
UID:10007911-1717000200-1717005600@fv-vaalserquartier.de
SUMMARY:Mädchen 2014 - Training (2024)
DESCRIPTION:
URL:https://fv-vaalserquartier.de/veranstaltung/maedchen-2014-training-2024/2024-05-29/
LOCATION:Kunstrasenplatz Alte Vaalser Straße\, Alte Vaalser Straße\, Aachen\, 52074\, Deutschland
CATEGORIES:Training
ATTACH;FMTTYPE=image/jpeg:https://fv-vaalserquartier.de/wp-content/uploads/2022/02/sportplatz_kunstrasen_.jpg
ORGANIZER;CN="M%C3%A4dchen 2014":MAILTO:jonathan.muehlen@mail.de
GEO:50.7686866;6.0296122
X-APPLE-STRUCTURED-LOCATION;VALUE=URI;X-ADDRESS=Kunstrasenplatz Alte Vaalser Straße Alte Vaalser Straße Aachen 52074 Deutschland;X-APPLE-RADIUS=500;X-TITLE=Alte Vaalser Straße:geo:6.0296122,50.7686866
END:VEVENT
BEGIN:VEVENT
DTSTART;TZID=Europe/Berlin:20240527T163000
DTEND;TZID=Europe/Berlin:20240527T180000
DTSTAMP:20260419T164944
CREATED:20230728T092134Z
LAST-MODIFIED:20230728T092137Z
UID:10007910-1716827400-1716832800@fv-vaalserquartier.de
SUMMARY:Mädchen 2014 - Training (2024)
DESCRIPTION:
URL:https://fv-vaalserquartier.de/veranstaltung/maedchen-2014-training-2024/2024-05-27/
LOCATION:Kunstrasenplatz Alte Vaalser Straße\, Alte Vaalser Straße\, Aachen\, 52074\, Deutschland
CATEGORIES:Training
ATTACH;FMTTYPE=image/jpeg:https://fv-vaalserquartier.de/wp-content/uploads/2022/02/sportplatz_kunstrasen_.jpg
ORGANIZER;CN="M%C3%A4dchen 2014":MAILTO:jonathan.muehlen@mail.de
GEO:50.7686866;6.0296122
X-APPLE-STRUCTURED-LOCATION;VALUE=URI;X-ADDRESS=Kunstrasenplatz Alte Vaalser Straße Alte Vaalser Straße Aachen 52074 Deutschland;X-APPLE-RADIUS=500;X-TITLE=Alte Vaalser Straße:geo:6.0296122,50.7686866
END:VEVENT
BEGIN:VEVENT
DTSTART;TZID=Europe/Berlin:20240522T163000
DTEND;TZID=Europe/Berlin:20240522T180000
DTSTAMP:20260419T164944
CREATED:20230728T092134Z
LAST-MODIFIED:20230728T092137Z
UID:10007909-1716395400-1716400800@fv-vaalserquartier.de
SUMMARY:Mädchen 2014 - Training (2024)
DESCRIPTION:
URL:https://fv-vaalserquartier.de/veranstaltung/maedchen-2014-training-2024/2024-05-22/
LOCATION:Kunstrasenplatz Alte Vaalser Straße\, Alte Vaalser Straße\, Aachen\, 52074\, Deutschland
CATEGORIES:Training
ATTACH;FMTTYPE=image/jpeg:https://fv-vaalserquartier.de/wp-content/uploads/2022/02/sportplatz_kunstrasen_.jpg
ORGANIZER;CN="M%C3%A4dchen 2014":MAILTO:jonathan.muehlen@mail.de
GEO:50.7686866;6.0296122
X-APPLE-STRUCTURED-LOCATION;VALUE=URI;X-ADDRESS=Kunstrasenplatz Alte Vaalser Straße Alte Vaalser Straße Aachen 52074 Deutschland;X-APPLE-RADIUS=500;X-TITLE=Alte Vaalser Straße:geo:6.0296122,50.7686866
END:VEVENT
BEGIN:VEVENT
DTSTART;TZID=Europe/Berlin:20240520T163000
DTEND;TZID=Europe/Berlin:20240520T180000
DTSTAMP:20260419T164944
CREATED:20230728T092134Z
LAST-MODIFIED:20230728T092137Z
UID:10007908-1716222600-1716228000@fv-vaalserquartier.de
SUMMARY:Mädchen 2014 - Training (2024)
DESCRIPTION:
URL:https://fv-vaalserquartier.de/veranstaltung/maedchen-2014-training-2024/2024-05-20/
LOCATION:Kunstrasenplatz Alte Vaalser Straße\, Alte Vaalser Straße\, Aachen\, 52074\, Deutschland
CATEGORIES:Training
ATTACH;FMTTYPE=image/jpeg:https://fv-vaalserquartier.de/wp-content/uploads/2022/02/sportplatz_kunstrasen_.jpg
ORGANIZER;CN="M%C3%A4dchen 2014":MAILTO:jonathan.muehlen@mail.de
GEO:50.7686866;6.0296122
X-APPLE-STRUCTURED-LOCATION;VALUE=URI;X-ADDRESS=Kunstrasenplatz Alte Vaalser Straße Alte Vaalser Straße Aachen 52074 Deutschland;X-APPLE-RADIUS=500;X-TITLE=Alte Vaalser Straße:geo:6.0296122,50.7686866
END:VEVENT
BEGIN:VEVENT
DTSTART;TZID=Europe/Berlin:20240515T163000
DTEND;TZID=Europe/Berlin:20240515T180000
DTSTAMP:20260419T164944
CREATED:20230728T092134Z
LAST-MODIFIED:20230728T092137Z
UID:10007907-1715790600-1715796000@fv-vaalserquartier.de
SUMMARY:Mädchen 2014 - Training (2024)
DESCRIPTION:
URL:https://fv-vaalserquartier.de/veranstaltung/maedchen-2014-training-2024/2024-05-15/
LOCATION:Kunstrasenplatz Alte Vaalser Straße\, Alte Vaalser Straße\, Aachen\, 52074\, Deutschland
CATEGORIES:Training
ATTACH;FMTTYPE=image/jpeg:https://fv-vaalserquartier.de/wp-content/uploads/2022/02/sportplatz_kunstrasen_.jpg
ORGANIZER;CN="M%C3%A4dchen 2014":MAILTO:jonathan.muehlen@mail.de
GEO:50.7686866;6.0296122
X-APPLE-STRUCTURED-LOCATION;VALUE=URI;X-ADDRESS=Kunstrasenplatz Alte Vaalser Straße Alte Vaalser Straße Aachen 52074 Deutschland;X-APPLE-RADIUS=500;X-TITLE=Alte Vaalser Straße:geo:6.0296122,50.7686866
END:VEVENT
BEGIN:VEVENT
DTSTART;TZID=Europe/Berlin:20240513T163000
DTEND;TZID=Europe/Berlin:20240513T180000
DTSTAMP:20260419T164944
CREATED:20230728T092134Z
LAST-MODIFIED:20230728T092137Z
UID:10007906-1715617800-1715623200@fv-vaalserquartier.de
SUMMARY:Mädchen 2014 - Training (2024)
DESCRIPTION:
URL:https://fv-vaalserquartier.de/veranstaltung/maedchen-2014-training-2024/2024-05-13/
LOCATION:Kunstrasenplatz Alte Vaalser Straße\, Alte Vaalser Straße\, Aachen\, 52074\, Deutschland
CATEGORIES:Training
ATTACH;FMTTYPE=image/jpeg:https://fv-vaalserquartier.de/wp-content/uploads/2022/02/sportplatz_kunstrasen_.jpg
ORGANIZER;CN="M%C3%A4dchen 2014":MAILTO:jonathan.muehlen@mail.de
GEO:50.7686866;6.0296122
X-APPLE-STRUCTURED-LOCATION;VALUE=URI;X-ADDRESS=Kunstrasenplatz Alte Vaalser Straße Alte Vaalser Straße Aachen 52074 Deutschland;X-APPLE-RADIUS=500;X-TITLE=Alte Vaalser Straße:geo:6.0296122,50.7686866
END:VEVENT
BEGIN:VEVENT
DTSTART;TZID=Europe/Berlin:20240508T163000
DTEND;TZID=Europe/Berlin:20240508T180000
DTSTAMP:20260419T164944
CREATED:20230728T092134Z
LAST-MODIFIED:20230728T092137Z
UID:10007905-1715185800-1715191200@fv-vaalserquartier.de
SUMMARY:Mädchen 2014 - Training (2024)
DESCRIPTION:
URL:https://fv-vaalserquartier.de/veranstaltung/maedchen-2014-training-2024/2024-05-08/
LOCATION:Kunstrasenplatz Alte Vaalser Straße\, Alte Vaalser Straße\, Aachen\, 52074\, Deutschland
CATEGORIES:Training
ATTACH;FMTTYPE=image/jpeg:https://fv-vaalserquartier.de/wp-content/uploads/2022/02/sportplatz_kunstrasen_.jpg
ORGANIZER;CN="M%C3%A4dchen 2014":MAILTO:jonathan.muehlen@mail.de
GEO:50.7686866;6.0296122
X-APPLE-STRUCTURED-LOCATION;VALUE=URI;X-ADDRESS=Kunstrasenplatz Alte Vaalser Straße Alte Vaalser Straße Aachen 52074 Deutschland;X-APPLE-RADIUS=500;X-TITLE=Alte Vaalser Straße:geo:6.0296122,50.7686866
END:VEVENT
BEGIN:VEVENT
DTSTART;TZID=Europe/Berlin:20240506T163000
DTEND;TZID=Europe/Berlin:20240506T180000
DTSTAMP:20260419T164944
CREATED:20230728T092134Z
LAST-MODIFIED:20230728T092137Z
UID:10007904-1715013000-1715018400@fv-vaalserquartier.de
SUMMARY:Mädchen 2014 - Training (2024)
DESCRIPTION:
URL:https://fv-vaalserquartier.de/veranstaltung/maedchen-2014-training-2024/2024-05-06/
LOCATION:Kunstrasenplatz Alte Vaalser Straße\, Alte Vaalser Straße\, Aachen\, 52074\, Deutschland
CATEGORIES:Training
ATTACH;FMTTYPE=image/jpeg:https://fv-vaalserquartier.de/wp-content/uploads/2022/02/sportplatz_kunstrasen_.jpg
ORGANIZER;CN="M%C3%A4dchen 2014":MAILTO:jonathan.muehlen@mail.de
GEO:50.7686866;6.0296122
X-APPLE-STRUCTURED-LOCATION;VALUE=URI;X-ADDRESS=Kunstrasenplatz Alte Vaalser Straße Alte Vaalser Straße Aachen 52074 Deutschland;X-APPLE-RADIUS=500;X-TITLE=Alte Vaalser Straße:geo:6.0296122,50.7686866
END:VEVENT
BEGIN:VEVENT
DTSTART;TZID=Europe/Berlin:20240501T163000
DTEND;TZID=Europe/Berlin:20240501T180000
DTSTAMP:20260419T164944
CREATED:20230728T092134Z
LAST-MODIFIED:20230728T092137Z
UID:10007903-1714581000-1714586400@fv-vaalserquartier.de
SUMMARY:Mädchen 2014 - Training (2024)
DESCRIPTION:
URL:https://fv-vaalserquartier.de/veranstaltung/maedchen-2014-training-2024/2024-05-01/
LOCATION:Kunstrasenplatz Alte Vaalser Straße\, Alte Vaalser Straße\, Aachen\, 52074\, Deutschland
CATEGORIES:Training
ATTACH;FMTTYPE=image/jpeg:https://fv-vaalserquartier.de/wp-content/uploads/2022/02/sportplatz_kunstrasen_.jpg
ORGANIZER;CN="M%C3%A4dchen 2014":MAILTO:jonathan.muehlen@mail.de
GEO:50.7686866;6.0296122
X-APPLE-STRUCTURED-LOCATION;VALUE=URI;X-ADDRESS=Kunstrasenplatz Alte Vaalser Straße Alte Vaalser Straße Aachen 52074 Deutschland;X-APPLE-RADIUS=500;X-TITLE=Alte Vaalser Straße:geo:6.0296122,50.7686866
END:VEVENT
BEGIN:VEVENT
DTSTART;TZID=Europe/Berlin:20240429T163000
DTEND;TZID=Europe/Berlin:20240429T180000
DTSTAMP:20260419T164944
CREATED:20230728T092134Z
LAST-MODIFIED:20230728T092137Z
UID:10007902-1714408200-1714413600@fv-vaalserquartier.de
SUMMARY:Mädchen 2014 - Training (2024)
DESCRIPTION:
URL:https://fv-vaalserquartier.de/veranstaltung/maedchen-2014-training-2024/2024-04-29/
LOCATION:Kunstrasenplatz Alte Vaalser Straße\, Alte Vaalser Straße\, Aachen\, 52074\, Deutschland
CATEGORIES:Training
ATTACH;FMTTYPE=image/jpeg:https://fv-vaalserquartier.de/wp-content/uploads/2022/02/sportplatz_kunstrasen_.jpg
ORGANIZER;CN="M%C3%A4dchen 2014":MAILTO:jonathan.muehlen@mail.de
GEO:50.7686866;6.0296122
X-APPLE-STRUCTURED-LOCATION;VALUE=URI;X-ADDRESS=Kunstrasenplatz Alte Vaalser Straße Alte Vaalser Straße Aachen 52074 Deutschland;X-APPLE-RADIUS=500;X-TITLE=Alte Vaalser Straße:geo:6.0296122,50.7686866
END:VEVENT
BEGIN:VEVENT
DTSTART;TZID=Europe/Berlin:20240424T163000
DTEND;TZID=Europe/Berlin:20240424T180000
DTSTAMP:20260419T164944
CREATED:20230728T092134Z
LAST-MODIFIED:20230728T092137Z
UID:10007901-1713976200-1713981600@fv-vaalserquartier.de
SUMMARY:Mädchen 2014 - Training (2024)
DESCRIPTION:
URL:https://fv-vaalserquartier.de/veranstaltung/maedchen-2014-training-2024/2024-04-24/
LOCATION:Kunstrasenplatz Alte Vaalser Straße\, Alte Vaalser Straße\, Aachen\, 52074\, Deutschland
CATEGORIES:Training
ATTACH;FMTTYPE=image/jpeg:https://fv-vaalserquartier.de/wp-content/uploads/2022/02/sportplatz_kunstrasen_.jpg
ORGANIZER;CN="M%C3%A4dchen 2014":MAILTO:jonathan.muehlen@mail.de
GEO:50.7686866;6.0296122
X-APPLE-STRUCTURED-LOCATION;VALUE=URI;X-ADDRESS=Kunstrasenplatz Alte Vaalser Straße Alte Vaalser Straße Aachen 52074 Deutschland;X-APPLE-RADIUS=500;X-TITLE=Alte Vaalser Straße:geo:6.0296122,50.7686866
END:VEVENT
BEGIN:VEVENT
DTSTART;TZID=Europe/Berlin:20240422T163000
DTEND;TZID=Europe/Berlin:20240422T180000
DTSTAMP:20260419T164944
CREATED:20230728T092134Z
LAST-MODIFIED:20230728T092137Z
UID:10007900-1713803400-1713808800@fv-vaalserquartier.de
SUMMARY:Mädchen 2014 - Training (2024)
DESCRIPTION:
URL:https://fv-vaalserquartier.de/veranstaltung/maedchen-2014-training-2024/2024-04-22/
LOCATION:Kunstrasenplatz Alte Vaalser Straße\, Alte Vaalser Straße\, Aachen\, 52074\, Deutschland
CATEGORIES:Training
ATTACH;FMTTYPE=image/jpeg:https://fv-vaalserquartier.de/wp-content/uploads/2022/02/sportplatz_kunstrasen_.jpg
ORGANIZER;CN="M%C3%A4dchen 2014":MAILTO:jonathan.muehlen@mail.de
GEO:50.7686866;6.0296122
X-APPLE-STRUCTURED-LOCATION;VALUE=URI;X-ADDRESS=Kunstrasenplatz Alte Vaalser Straße Alte Vaalser Straße Aachen 52074 Deutschland;X-APPLE-RADIUS=500;X-TITLE=Alte Vaalser Straße:geo:6.0296122,50.7686866
END:VEVENT
BEGIN:VEVENT
DTSTART;TZID=Europe/Berlin:20240417T163000
DTEND;TZID=Europe/Berlin:20240417T180000
DTSTAMP:20260419T164944
CREATED:20230728T092134Z
LAST-MODIFIED:20230728T092137Z
UID:10007899-1713371400-1713376800@fv-vaalserquartier.de
SUMMARY:Mädchen 2014 - Training (2024)
DESCRIPTION:
URL:https://fv-vaalserquartier.de/veranstaltung/maedchen-2014-training-2024/2024-04-17/
LOCATION:Kunstrasenplatz Alte Vaalser Straße\, Alte Vaalser Straße\, Aachen\, 52074\, Deutschland
CATEGORIES:Training
ATTACH;FMTTYPE=image/jpeg:https://fv-vaalserquartier.de/wp-content/uploads/2022/02/sportplatz_kunstrasen_.jpg
ORGANIZER;CN="M%C3%A4dchen 2014":MAILTO:jonathan.muehlen@mail.de
GEO:50.7686866;6.0296122
X-APPLE-STRUCTURED-LOCATION;VALUE=URI;X-ADDRESS=Kunstrasenplatz Alte Vaalser Straße Alte Vaalser Straße Aachen 52074 Deutschland;X-APPLE-RADIUS=500;X-TITLE=Alte Vaalser Straße:geo:6.0296122,50.7686866
END:VEVENT
BEGIN:VEVENT
DTSTART;TZID=Europe/Berlin:20240415T163000
DTEND;TZID=Europe/Berlin:20240415T180000
DTSTAMP:20260419T164944
CREATED:20230728T092134Z
LAST-MODIFIED:20230728T092137Z
UID:10007898-1713198600-1713204000@fv-vaalserquartier.de
SUMMARY:Mädchen 2014 - Training (2024)
DESCRIPTION:
URL:https://fv-vaalserquartier.de/veranstaltung/maedchen-2014-training-2024/2024-04-15/
LOCATION:Kunstrasenplatz Alte Vaalser Straße\, Alte Vaalser Straße\, Aachen\, 52074\, Deutschland
CATEGORIES:Training
ATTACH;FMTTYPE=image/jpeg:https://fv-vaalserquartier.de/wp-content/uploads/2022/02/sportplatz_kunstrasen_.jpg
ORGANIZER;CN="M%C3%A4dchen 2014":MAILTO:jonathan.muehlen@mail.de
GEO:50.7686866;6.0296122
X-APPLE-STRUCTURED-LOCATION;VALUE=URI;X-ADDRESS=Kunstrasenplatz Alte Vaalser Straße Alte Vaalser Straße Aachen 52074 Deutschland;X-APPLE-RADIUS=500;X-TITLE=Alte Vaalser Straße:geo:6.0296122,50.7686866
END:VEVENT
BEGIN:VEVENT
DTSTART;TZID=Europe/Berlin:20240410T163000
DTEND;TZID=Europe/Berlin:20240410T180000
DTSTAMP:20260419T164944
CREATED:20230728T092134Z
LAST-MODIFIED:20230728T092137Z
UID:10007897-1712766600-1712772000@fv-vaalserquartier.de
SUMMARY:Mädchen 2014 - Training (2024)
DESCRIPTION:
URL:https://fv-vaalserquartier.de/veranstaltung/maedchen-2014-training-2024/2024-04-10/
LOCATION:Kunstrasenplatz Alte Vaalser Straße\, Alte Vaalser Straße\, Aachen\, 52074\, Deutschland
CATEGORIES:Training
ATTACH;FMTTYPE=image/jpeg:https://fv-vaalserquartier.de/wp-content/uploads/2022/02/sportplatz_kunstrasen_.jpg
ORGANIZER;CN="M%C3%A4dchen 2014":MAILTO:jonathan.muehlen@mail.de
GEO:50.7686866;6.0296122
X-APPLE-STRUCTURED-LOCATION;VALUE=URI;X-ADDRESS=Kunstrasenplatz Alte Vaalser Straße Alte Vaalser Straße Aachen 52074 Deutschland;X-APPLE-RADIUS=500;X-TITLE=Alte Vaalser Straße:geo:6.0296122,50.7686866
END:VEVENT
BEGIN:VEVENT
DTSTART;TZID=Europe/Berlin:20240408T163000
DTEND;TZID=Europe/Berlin:20240408T180000
DTSTAMP:20260419T164944
CREATED:20230728T092134Z
LAST-MODIFIED:20230728T092137Z
UID:10007896-1712593800-1712599200@fv-vaalserquartier.de
SUMMARY:Mädchen 2014 - Training (2024)
DESCRIPTION:
URL:https://fv-vaalserquartier.de/veranstaltung/maedchen-2014-training-2024/2024-04-08/
LOCATION:Kunstrasenplatz Alte Vaalser Straße\, Alte Vaalser Straße\, Aachen\, 52074\, Deutschland
CATEGORIES:Training
ATTACH;FMTTYPE=image/jpeg:https://fv-vaalserquartier.de/wp-content/uploads/2022/02/sportplatz_kunstrasen_.jpg
ORGANIZER;CN="M%C3%A4dchen 2014":MAILTO:jonathan.muehlen@mail.de
GEO:50.7686866;6.0296122
X-APPLE-STRUCTURED-LOCATION;VALUE=URI;X-ADDRESS=Kunstrasenplatz Alte Vaalser Straße Alte Vaalser Straße Aachen 52074 Deutschland;X-APPLE-RADIUS=500;X-TITLE=Alte Vaalser Straße:geo:6.0296122,50.7686866
END:VEVENT
BEGIN:VEVENT
DTSTART;TZID=Europe/Berlin:20240403T163000
DTEND;TZID=Europe/Berlin:20240403T180000
DTSTAMP:20260419T164944
CREATED:20230728T092134Z
LAST-MODIFIED:20230728T092137Z
UID:10007895-1712161800-1712167200@fv-vaalserquartier.de
SUMMARY:Mädchen 2014 - Training (2024)
DESCRIPTION:
URL:https://fv-vaalserquartier.de/veranstaltung/maedchen-2014-training-2024/2024-04-03/
LOCATION:Kunstrasenplatz Alte Vaalser Straße\, Alte Vaalser Straße\, Aachen\, 52074\, Deutschland
CATEGORIES:Training
ATTACH;FMTTYPE=image/jpeg:https://fv-vaalserquartier.de/wp-content/uploads/2022/02/sportplatz_kunstrasen_.jpg
ORGANIZER;CN="M%C3%A4dchen 2014":MAILTO:jonathan.muehlen@mail.de
GEO:50.7686866;6.0296122
X-APPLE-STRUCTURED-LOCATION;VALUE=URI;X-ADDRESS=Kunstrasenplatz Alte Vaalser Straße Alte Vaalser Straße Aachen 52074 Deutschland;X-APPLE-RADIUS=500;X-TITLE=Alte Vaalser Straße:geo:6.0296122,50.7686866
END:VEVENT
BEGIN:VEVENT
DTSTART;TZID=Europe/Berlin:20240401T163000
DTEND;TZID=Europe/Berlin:20240401T180000
DTSTAMP:20260419T164944
CREATED:20230728T092134Z
LAST-MODIFIED:20230728T092137Z
UID:10007894-1711989000-1711994400@fv-vaalserquartier.de
SUMMARY:Mädchen 2014 - Training (2024)
DESCRIPTION:
URL:https://fv-vaalserquartier.de/veranstaltung/maedchen-2014-training-2024/2024-04-01/
LOCATION:Kunstrasenplatz Alte Vaalser Straße\, Alte Vaalser Straße\, Aachen\, 52074\, Deutschland
CATEGORIES:Training
ATTACH;FMTTYPE=image/jpeg:https://fv-vaalserquartier.de/wp-content/uploads/2022/02/sportplatz_kunstrasen_.jpg
ORGANIZER;CN="M%C3%A4dchen 2014":MAILTO:jonathan.muehlen@mail.de
GEO:50.7686866;6.0296122
X-APPLE-STRUCTURED-LOCATION;VALUE=URI;X-ADDRESS=Kunstrasenplatz Alte Vaalser Straße Alte Vaalser Straße Aachen 52074 Deutschland;X-APPLE-RADIUS=500;X-TITLE=Alte Vaalser Straße:geo:6.0296122,50.7686866
END:VEVENT
BEGIN:VEVENT
DTSTART;TZID=Europe/Berlin:20240327T163000
DTEND;TZID=Europe/Berlin:20240327T180000
DTSTAMP:20260419T164944
CREATED:20230728T092134Z
LAST-MODIFIED:20230728T092137Z
UID:10007893-1711557000-1711562400@fv-vaalserquartier.de
SUMMARY:Mädchen 2014 - Training (2024)
DESCRIPTION:
URL:https://fv-vaalserquartier.de/veranstaltung/maedchen-2014-training-2024/2024-03-27/
LOCATION:Kunstrasenplatz Alte Vaalser Straße\, Alte Vaalser Straße\, Aachen\, 52074\, Deutschland
CATEGORIES:Training
ATTACH;FMTTYPE=image/jpeg:https://fv-vaalserquartier.de/wp-content/uploads/2022/02/sportplatz_kunstrasen_.jpg
ORGANIZER;CN="M%C3%A4dchen 2014":MAILTO:jonathan.muehlen@mail.de
GEO:50.7686866;6.0296122
X-APPLE-STRUCTURED-LOCATION;VALUE=URI;X-ADDRESS=Kunstrasenplatz Alte Vaalser Straße Alte Vaalser Straße Aachen 52074 Deutschland;X-APPLE-RADIUS=500;X-TITLE=Alte Vaalser Straße:geo:6.0296122,50.7686866
END:VEVENT
BEGIN:VEVENT
DTSTART;TZID=Europe/Berlin:20240325T163000
DTEND;TZID=Europe/Berlin:20240325T180000
DTSTAMP:20260419T164944
CREATED:20230728T092134Z
LAST-MODIFIED:20230728T092137Z
UID:10007892-1711384200-1711389600@fv-vaalserquartier.de
SUMMARY:Mädchen 2014 - Training (2024)
DESCRIPTION:
URL:https://fv-vaalserquartier.de/veranstaltung/maedchen-2014-training-2024/2024-03-25/
LOCATION:Kunstrasenplatz Alte Vaalser Straße\, Alte Vaalser Straße\, Aachen\, 52074\, Deutschland
CATEGORIES:Training
ATTACH;FMTTYPE=image/jpeg:https://fv-vaalserquartier.de/wp-content/uploads/2022/02/sportplatz_kunstrasen_.jpg
ORGANIZER;CN="M%C3%A4dchen 2014":MAILTO:jonathan.muehlen@mail.de
GEO:50.7686866;6.0296122
X-APPLE-STRUCTURED-LOCATION;VALUE=URI;X-ADDRESS=Kunstrasenplatz Alte Vaalser Straße Alte Vaalser Straße Aachen 52074 Deutschland;X-APPLE-RADIUS=500;X-TITLE=Alte Vaalser Straße:geo:6.0296122,50.7686866
END:VEVENT
BEGIN:VEVENT
DTSTART;TZID=Europe/Berlin:20240320T163000
DTEND;TZID=Europe/Berlin:20240320T180000
DTSTAMP:20260419T164944
CREATED:20230728T092134Z
LAST-MODIFIED:20230728T092137Z
UID:10007891-1710952200-1710957600@fv-vaalserquartier.de
SUMMARY:Mädchen 2014 - Training (2024)
DESCRIPTION:
URL:https://fv-vaalserquartier.de/veranstaltung/maedchen-2014-training-2024/2024-03-20/
LOCATION:Kunstrasenplatz Alte Vaalser Straße\, Alte Vaalser Straße\, Aachen\, 52074\, Deutschland
CATEGORIES:Training
ATTACH;FMTTYPE=image/jpeg:https://fv-vaalserquartier.de/wp-content/uploads/2022/02/sportplatz_kunstrasen_.jpg
ORGANIZER;CN="M%C3%A4dchen 2014":MAILTO:jonathan.muehlen@mail.de
GEO:50.7686866;6.0296122
X-APPLE-STRUCTURED-LOCATION;VALUE=URI;X-ADDRESS=Kunstrasenplatz Alte Vaalser Straße Alte Vaalser Straße Aachen 52074 Deutschland;X-APPLE-RADIUS=500;X-TITLE=Alte Vaalser Straße:geo:6.0296122,50.7686866
END:VEVENT
BEGIN:VEVENT
DTSTART;TZID=Europe/Berlin:20240318T163000
DTEND;TZID=Europe/Berlin:20240318T180000
DTSTAMP:20260419T164944
CREATED:20230728T092134Z
LAST-MODIFIED:20230728T092137Z
UID:10007890-1710779400-1710784800@fv-vaalserquartier.de
SUMMARY:Mädchen 2014 - Training (2024)
DESCRIPTION:
URL:https://fv-vaalserquartier.de/veranstaltung/maedchen-2014-training-2024/2024-03-18/
LOCATION:Kunstrasenplatz Alte Vaalser Straße\, Alte Vaalser Straße\, Aachen\, 52074\, Deutschland
CATEGORIES:Training
ATTACH;FMTTYPE=image/jpeg:https://fv-vaalserquartier.de/wp-content/uploads/2022/02/sportplatz_kunstrasen_.jpg
ORGANIZER;CN="M%C3%A4dchen 2014":MAILTO:jonathan.muehlen@mail.de
GEO:50.7686866;6.0296122
X-APPLE-STRUCTURED-LOCATION;VALUE=URI;X-ADDRESS=Kunstrasenplatz Alte Vaalser Straße Alte Vaalser Straße Aachen 52074 Deutschland;X-APPLE-RADIUS=500;X-TITLE=Alte Vaalser Straße:geo:6.0296122,50.7686866
END:VEVENT
END:VCALENDAR