BEGIN:VCALENDAR
VERSION:2.0
PRODID:-//FV Vaalserquartier - ECPv6.15.15//NONSGML v1.0//EN
CALSCALE:GREGORIAN
METHOD:PUBLISH
X-WR-CALNAME:FV Vaalserquartier
X-ORIGINAL-URL:https://fv-vaalserquartier.de
X-WR-CALDESC:Veranstaltungen für FV Vaalserquartier
REFRESH-INTERVAL;VALUE=DURATION:PT1H
X-Robots-Tag:noindex
X-PUBLISHED-TTL:PT1H
BEGIN:VTIMEZONE
TZID:Europe/Berlin
BEGIN:DAYLIGHT
TZOFFSETFROM:+0100
TZOFFSETTO:+0200
TZNAME:CEST
DTSTART:20230326T010000
END:DAYLIGHT
BEGIN:STANDARD
TZOFFSETFROM:+0200
TZOFFSETTO:+0100
TZNAME:CET
DTSTART:20231029T010000
END:STANDARD
BEGIN:DAYLIGHT
TZOFFSETFROM:+0100
TZOFFSETTO:+0200
TZNAME:CEST
DTSTART:20240331T010000
END:DAYLIGHT
BEGIN:STANDARD
TZOFFSETFROM:+0200
TZOFFSETTO:+0100
TZNAME:CET
DTSTART:20241027T010000
END:STANDARD
BEGIN:DAYLIGHT
TZOFFSETFROM:+0100
TZOFFSETTO:+0200
TZNAME:CEST
DTSTART:20250330T010000
END:DAYLIGHT
BEGIN:STANDARD
TZOFFSETFROM:+0200
TZOFFSETTO:+0100
TZNAME:CET
DTSTART:20251026T010000
END:STANDARD
END:VTIMEZONE
BEGIN:VEVENT
DTSTART;TZID=Europe/Berlin:20240620T193000
DTEND;TZID=Europe/Berlin:20240620T213000
DTSTAMP:20260422T165402
CREATED:20230727T163825Z
LAST-MODIFIED:20230727T164119Z
UID:10007781-1718911800-1718919000@fv-vaalserquartier.de
SUMMARY:FVV 2 - Training (2024)
DESCRIPTION:
URL:https://fv-vaalserquartier.de/veranstaltung/fvv-1-training-2023-4/2024-06-20/
LOCATION:Kunstrasenplatz Alte Vaalser Straße\, Alte Vaalser Straße\, Aachen\, 52074\, Deutschland
CATEGORIES:Training
ATTACH;FMTTYPE=image/jpeg:https://fv-vaalserquartier.de/wp-content/uploads/2022/02/sportplatz_kunstrasen_.jpg
ORGANIZER;CN="FVV 2":MAILTO:fvv2-trainer@fv-vaalserquartier.de
GEO:50.7686866;6.0296122
X-APPLE-STRUCTURED-LOCATION;VALUE=URI;X-ADDRESS=Kunstrasenplatz Alte Vaalser Straße Alte Vaalser Straße Aachen 52074 Deutschland;X-APPLE-RADIUS=500;X-TITLE=Alte Vaalser Straße:geo:6.0296122,50.7686866
END:VEVENT
BEGIN:VEVENT
DTSTART;TZID=Europe/Berlin:20240618T193000
DTEND;TZID=Europe/Berlin:20240618T213000
DTSTAMP:20260422T165402
CREATED:20230727T163825Z
LAST-MODIFIED:20230727T164119Z
UID:10007780-1718739000-1718746200@fv-vaalserquartier.de
SUMMARY:FVV 2 - Training (2024)
DESCRIPTION:
URL:https://fv-vaalserquartier.de/veranstaltung/fvv-1-training-2023-4/2024-06-18/
LOCATION:Kunstrasenplatz Alte Vaalser Straße\, Alte Vaalser Straße\, Aachen\, 52074\, Deutschland
CATEGORIES:Training
ATTACH;FMTTYPE=image/jpeg:https://fv-vaalserquartier.de/wp-content/uploads/2022/02/sportplatz_kunstrasen_.jpg
ORGANIZER;CN="FVV 2":MAILTO:fvv2-trainer@fv-vaalserquartier.de
GEO:50.7686866;6.0296122
X-APPLE-STRUCTURED-LOCATION;VALUE=URI;X-ADDRESS=Kunstrasenplatz Alte Vaalser Straße Alte Vaalser Straße Aachen 52074 Deutschland;X-APPLE-RADIUS=500;X-TITLE=Alte Vaalser Straße:geo:6.0296122,50.7686866
END:VEVENT
BEGIN:VEVENT
DTSTART;TZID=Europe/Berlin:20240613T193000
DTEND;TZID=Europe/Berlin:20240613T213000
DTSTAMP:20260422T165402
CREATED:20230727T163825Z
LAST-MODIFIED:20230727T164119Z
UID:10007779-1718307000-1718314200@fv-vaalserquartier.de
SUMMARY:FVV 2 - Training (2024)
DESCRIPTION:
URL:https://fv-vaalserquartier.de/veranstaltung/fvv-1-training-2023-4/2024-06-13/
LOCATION:Kunstrasenplatz Alte Vaalser Straße\, Alte Vaalser Straße\, Aachen\, 52074\, Deutschland
CATEGORIES:Training
ATTACH;FMTTYPE=image/jpeg:https://fv-vaalserquartier.de/wp-content/uploads/2022/02/sportplatz_kunstrasen_.jpg
ORGANIZER;CN="FVV 2":MAILTO:fvv2-trainer@fv-vaalserquartier.de
GEO:50.7686866;6.0296122
X-APPLE-STRUCTURED-LOCATION;VALUE=URI;X-ADDRESS=Kunstrasenplatz Alte Vaalser Straße Alte Vaalser Straße Aachen 52074 Deutschland;X-APPLE-RADIUS=500;X-TITLE=Alte Vaalser Straße:geo:6.0296122,50.7686866
END:VEVENT
BEGIN:VEVENT
DTSTART;TZID=Europe/Berlin:20240611T193000
DTEND;TZID=Europe/Berlin:20240611T213000
DTSTAMP:20260422T165402
CREATED:20230727T163825Z
LAST-MODIFIED:20230727T164119Z
UID:10007778-1718134200-1718141400@fv-vaalserquartier.de
SUMMARY:FVV 2 - Training (2024)
DESCRIPTION:
URL:https://fv-vaalserquartier.de/veranstaltung/fvv-1-training-2023-4/2024-06-11/
LOCATION:Kunstrasenplatz Alte Vaalser Straße\, Alte Vaalser Straße\, Aachen\, 52074\, Deutschland
CATEGORIES:Training
ATTACH;FMTTYPE=image/jpeg:https://fv-vaalserquartier.de/wp-content/uploads/2022/02/sportplatz_kunstrasen_.jpg
ORGANIZER;CN="FVV 2":MAILTO:fvv2-trainer@fv-vaalserquartier.de
GEO:50.7686866;6.0296122
X-APPLE-STRUCTURED-LOCATION;VALUE=URI;X-ADDRESS=Kunstrasenplatz Alte Vaalser Straße Alte Vaalser Straße Aachen 52074 Deutschland;X-APPLE-RADIUS=500;X-TITLE=Alte Vaalser Straße:geo:6.0296122,50.7686866
END:VEVENT
BEGIN:VEVENT
DTSTART;TZID=Europe/Berlin:20240606T193000
DTEND;TZID=Europe/Berlin:20240606T213000
DTSTAMP:20260422T165402
CREATED:20230727T163825Z
LAST-MODIFIED:20230727T164119Z
UID:10007777-1717702200-1717709400@fv-vaalserquartier.de
SUMMARY:FVV 2 - Training (2024)
DESCRIPTION:
URL:https://fv-vaalserquartier.de/veranstaltung/fvv-1-training-2023-4/2024-06-06/
LOCATION:Kunstrasenplatz Alte Vaalser Straße\, Alte Vaalser Straße\, Aachen\, 52074\, Deutschland
CATEGORIES:Training
ATTACH;FMTTYPE=image/jpeg:https://fv-vaalserquartier.de/wp-content/uploads/2022/02/sportplatz_kunstrasen_.jpg
ORGANIZER;CN="FVV 2":MAILTO:fvv2-trainer@fv-vaalserquartier.de
GEO:50.7686866;6.0296122
X-APPLE-STRUCTURED-LOCATION;VALUE=URI;X-ADDRESS=Kunstrasenplatz Alte Vaalser Straße Alte Vaalser Straße Aachen 52074 Deutschland;X-APPLE-RADIUS=500;X-TITLE=Alte Vaalser Straße:geo:6.0296122,50.7686866
END:VEVENT
BEGIN:VEVENT
DTSTART;TZID=Europe/Berlin:20240604T193000
DTEND;TZID=Europe/Berlin:20240604T213000
DTSTAMP:20260422T165402
CREATED:20230727T163825Z
LAST-MODIFIED:20230727T164119Z
UID:10007776-1717529400-1717536600@fv-vaalserquartier.de
SUMMARY:FVV 2 - Training (2024)
DESCRIPTION:
URL:https://fv-vaalserquartier.de/veranstaltung/fvv-1-training-2023-4/2024-06-04/
LOCATION:Kunstrasenplatz Alte Vaalser Straße\, Alte Vaalser Straße\, Aachen\, 52074\, Deutschland
CATEGORIES:Training
ATTACH;FMTTYPE=image/jpeg:https://fv-vaalserquartier.de/wp-content/uploads/2022/02/sportplatz_kunstrasen_.jpg
ORGANIZER;CN="FVV 2":MAILTO:fvv2-trainer@fv-vaalserquartier.de
GEO:50.7686866;6.0296122
X-APPLE-STRUCTURED-LOCATION;VALUE=URI;X-ADDRESS=Kunstrasenplatz Alte Vaalser Straße Alte Vaalser Straße Aachen 52074 Deutschland;X-APPLE-RADIUS=500;X-TITLE=Alte Vaalser Straße:geo:6.0296122,50.7686866
END:VEVENT
BEGIN:VEVENT
DTSTART;TZID=Europe/Berlin:20240530T193000
DTEND;TZID=Europe/Berlin:20240530T213000
DTSTAMP:20260422T165402
CREATED:20230727T163825Z
LAST-MODIFIED:20230727T164119Z
UID:10007775-1717097400-1717104600@fv-vaalserquartier.de
SUMMARY:FVV 2 - Training (2024)
DESCRIPTION:
URL:https://fv-vaalserquartier.de/veranstaltung/fvv-1-training-2023-4/2024-05-30/
LOCATION:Kunstrasenplatz Alte Vaalser Straße\, Alte Vaalser Straße\, Aachen\, 52074\, Deutschland
CATEGORIES:Training
ATTACH;FMTTYPE=image/jpeg:https://fv-vaalserquartier.de/wp-content/uploads/2022/02/sportplatz_kunstrasen_.jpg
ORGANIZER;CN="FVV 2":MAILTO:fvv2-trainer@fv-vaalserquartier.de
GEO:50.7686866;6.0296122
X-APPLE-STRUCTURED-LOCATION;VALUE=URI;X-ADDRESS=Kunstrasenplatz Alte Vaalser Straße Alte Vaalser Straße Aachen 52074 Deutschland;X-APPLE-RADIUS=500;X-TITLE=Alte Vaalser Straße:geo:6.0296122,50.7686866
END:VEVENT
BEGIN:VEVENT
DTSTART;TZID=Europe/Berlin:20240528T193000
DTEND;TZID=Europe/Berlin:20240528T213000
DTSTAMP:20260422T165402
CREATED:20230727T163825Z
LAST-MODIFIED:20230727T164119Z
UID:10007774-1716924600-1716931800@fv-vaalserquartier.de
SUMMARY:FVV 2 - Training (2024)
DESCRIPTION:
URL:https://fv-vaalserquartier.de/veranstaltung/fvv-1-training-2023-4/2024-05-28/
LOCATION:Kunstrasenplatz Alte Vaalser Straße\, Alte Vaalser Straße\, Aachen\, 52074\, Deutschland
CATEGORIES:Training
ATTACH;FMTTYPE=image/jpeg:https://fv-vaalserquartier.de/wp-content/uploads/2022/02/sportplatz_kunstrasen_.jpg
ORGANIZER;CN="FVV 2":MAILTO:fvv2-trainer@fv-vaalserquartier.de
GEO:50.7686866;6.0296122
X-APPLE-STRUCTURED-LOCATION;VALUE=URI;X-ADDRESS=Kunstrasenplatz Alte Vaalser Straße Alte Vaalser Straße Aachen 52074 Deutschland;X-APPLE-RADIUS=500;X-TITLE=Alte Vaalser Straße:geo:6.0296122,50.7686866
END:VEVENT
BEGIN:VEVENT
DTSTART;TZID=Europe/Berlin:20240523T193000
DTEND;TZID=Europe/Berlin:20240523T213000
DTSTAMP:20260422T165402
CREATED:20230727T163825Z
LAST-MODIFIED:20230727T164119Z
UID:10007773-1716492600-1716499800@fv-vaalserquartier.de
SUMMARY:FVV 2 - Training (2024)
DESCRIPTION:
URL:https://fv-vaalserquartier.de/veranstaltung/fvv-1-training-2023-4/2024-05-23/
LOCATION:Kunstrasenplatz Alte Vaalser Straße\, Alte Vaalser Straße\, Aachen\, 52074\, Deutschland
CATEGORIES:Training
ATTACH;FMTTYPE=image/jpeg:https://fv-vaalserquartier.de/wp-content/uploads/2022/02/sportplatz_kunstrasen_.jpg
ORGANIZER;CN="FVV 2":MAILTO:fvv2-trainer@fv-vaalserquartier.de
GEO:50.7686866;6.0296122
X-APPLE-STRUCTURED-LOCATION;VALUE=URI;X-ADDRESS=Kunstrasenplatz Alte Vaalser Straße Alte Vaalser Straße Aachen 52074 Deutschland;X-APPLE-RADIUS=500;X-TITLE=Alte Vaalser Straße:geo:6.0296122,50.7686866
END:VEVENT
BEGIN:VEVENT
DTSTART;TZID=Europe/Berlin:20240521T193000
DTEND;TZID=Europe/Berlin:20240521T213000
DTSTAMP:20260422T165402
CREATED:20230727T163825Z
LAST-MODIFIED:20230727T164119Z
UID:10007772-1716319800-1716327000@fv-vaalserquartier.de
SUMMARY:FVV 2 - Training (2024)
DESCRIPTION:
URL:https://fv-vaalserquartier.de/veranstaltung/fvv-1-training-2023-4/2024-05-21/
LOCATION:Kunstrasenplatz Alte Vaalser Straße\, Alte Vaalser Straße\, Aachen\, 52074\, Deutschland
CATEGORIES:Training
ATTACH;FMTTYPE=image/jpeg:https://fv-vaalserquartier.de/wp-content/uploads/2022/02/sportplatz_kunstrasen_.jpg
ORGANIZER;CN="FVV 2":MAILTO:fvv2-trainer@fv-vaalserquartier.de
GEO:50.7686866;6.0296122
X-APPLE-STRUCTURED-LOCATION;VALUE=URI;X-ADDRESS=Kunstrasenplatz Alte Vaalser Straße Alte Vaalser Straße Aachen 52074 Deutschland;X-APPLE-RADIUS=500;X-TITLE=Alte Vaalser Straße:geo:6.0296122,50.7686866
END:VEVENT
BEGIN:VEVENT
DTSTART;TZID=Europe/Berlin:20240516T193000
DTEND;TZID=Europe/Berlin:20240516T213000
DTSTAMP:20260422T165402
CREATED:20230727T163825Z
LAST-MODIFIED:20230727T164119Z
UID:10007771-1715887800-1715895000@fv-vaalserquartier.de
SUMMARY:FVV 2 - Training (2024)
DESCRIPTION:
URL:https://fv-vaalserquartier.de/veranstaltung/fvv-1-training-2023-4/2024-05-16/
LOCATION:Kunstrasenplatz Alte Vaalser Straße\, Alte Vaalser Straße\, Aachen\, 52074\, Deutschland
CATEGORIES:Training
ATTACH;FMTTYPE=image/jpeg:https://fv-vaalserquartier.de/wp-content/uploads/2022/02/sportplatz_kunstrasen_.jpg
ORGANIZER;CN="FVV 2":MAILTO:fvv2-trainer@fv-vaalserquartier.de
GEO:50.7686866;6.0296122
X-APPLE-STRUCTURED-LOCATION;VALUE=URI;X-ADDRESS=Kunstrasenplatz Alte Vaalser Straße Alte Vaalser Straße Aachen 52074 Deutschland;X-APPLE-RADIUS=500;X-TITLE=Alte Vaalser Straße:geo:6.0296122,50.7686866
END:VEVENT
BEGIN:VEVENT
DTSTART;TZID=Europe/Berlin:20240514T193000
DTEND;TZID=Europe/Berlin:20240514T213000
DTSTAMP:20260422T165402
CREATED:20230727T163825Z
LAST-MODIFIED:20230727T164119Z
UID:10007770-1715715000-1715722200@fv-vaalserquartier.de
SUMMARY:FVV 2 - Training (2024)
DESCRIPTION:
URL:https://fv-vaalserquartier.de/veranstaltung/fvv-1-training-2023-4/2024-05-14/
LOCATION:Kunstrasenplatz Alte Vaalser Straße\, Alte Vaalser Straße\, Aachen\, 52074\, Deutschland
CATEGORIES:Training
ATTACH;FMTTYPE=image/jpeg:https://fv-vaalserquartier.de/wp-content/uploads/2022/02/sportplatz_kunstrasen_.jpg
ORGANIZER;CN="FVV 2":MAILTO:fvv2-trainer@fv-vaalserquartier.de
GEO:50.7686866;6.0296122
X-APPLE-STRUCTURED-LOCATION;VALUE=URI;X-ADDRESS=Kunstrasenplatz Alte Vaalser Straße Alte Vaalser Straße Aachen 52074 Deutschland;X-APPLE-RADIUS=500;X-TITLE=Alte Vaalser Straße:geo:6.0296122,50.7686866
END:VEVENT
BEGIN:VEVENT
DTSTART;TZID=Europe/Berlin:20240509T193000
DTEND;TZID=Europe/Berlin:20240509T213000
DTSTAMP:20260422T165402
CREATED:20230727T163825Z
LAST-MODIFIED:20230727T164119Z
UID:10007769-1715283000-1715290200@fv-vaalserquartier.de
SUMMARY:FVV 2 - Training (2024)
DESCRIPTION:
URL:https://fv-vaalserquartier.de/veranstaltung/fvv-1-training-2023-4/2024-05-09/
LOCATION:Kunstrasenplatz Alte Vaalser Straße\, Alte Vaalser Straße\, Aachen\, 52074\, Deutschland
CATEGORIES:Training
ATTACH;FMTTYPE=image/jpeg:https://fv-vaalserquartier.de/wp-content/uploads/2022/02/sportplatz_kunstrasen_.jpg
ORGANIZER;CN="FVV 2":MAILTO:fvv2-trainer@fv-vaalserquartier.de
GEO:50.7686866;6.0296122
X-APPLE-STRUCTURED-LOCATION;VALUE=URI;X-ADDRESS=Kunstrasenplatz Alte Vaalser Straße Alte Vaalser Straße Aachen 52074 Deutschland;X-APPLE-RADIUS=500;X-TITLE=Alte Vaalser Straße:geo:6.0296122,50.7686866
END:VEVENT
BEGIN:VEVENT
DTSTART;TZID=Europe/Berlin:20240507T193000
DTEND;TZID=Europe/Berlin:20240507T213000
DTSTAMP:20260422T165402
CREATED:20230727T163825Z
LAST-MODIFIED:20230727T164119Z
UID:10007768-1715110200-1715117400@fv-vaalserquartier.de
SUMMARY:FVV 2 - Training (2024)
DESCRIPTION:
URL:https://fv-vaalserquartier.de/veranstaltung/fvv-1-training-2023-4/2024-05-07/
LOCATION:Kunstrasenplatz Alte Vaalser Straße\, Alte Vaalser Straße\, Aachen\, 52074\, Deutschland
CATEGORIES:Training
ATTACH;FMTTYPE=image/jpeg:https://fv-vaalserquartier.de/wp-content/uploads/2022/02/sportplatz_kunstrasen_.jpg
ORGANIZER;CN="FVV 2":MAILTO:fvv2-trainer@fv-vaalserquartier.de
GEO:50.7686866;6.0296122
X-APPLE-STRUCTURED-LOCATION;VALUE=URI;X-ADDRESS=Kunstrasenplatz Alte Vaalser Straße Alte Vaalser Straße Aachen 52074 Deutschland;X-APPLE-RADIUS=500;X-TITLE=Alte Vaalser Straße:geo:6.0296122,50.7686866
END:VEVENT
BEGIN:VEVENT
DTSTART;TZID=Europe/Berlin:20240502T193000
DTEND;TZID=Europe/Berlin:20240502T213000
DTSTAMP:20260422T165402
CREATED:20230727T163825Z
LAST-MODIFIED:20230727T164119Z
UID:10007767-1714678200-1714685400@fv-vaalserquartier.de
SUMMARY:FVV 2 - Training (2024)
DESCRIPTION:
URL:https://fv-vaalserquartier.de/veranstaltung/fvv-1-training-2023-4/2024-05-02/
LOCATION:Kunstrasenplatz Alte Vaalser Straße\, Alte Vaalser Straße\, Aachen\, 52074\, Deutschland
CATEGORIES:Training
ATTACH;FMTTYPE=image/jpeg:https://fv-vaalserquartier.de/wp-content/uploads/2022/02/sportplatz_kunstrasen_.jpg
ORGANIZER;CN="FVV 2":MAILTO:fvv2-trainer@fv-vaalserquartier.de
GEO:50.7686866;6.0296122
X-APPLE-STRUCTURED-LOCATION;VALUE=URI;X-ADDRESS=Kunstrasenplatz Alte Vaalser Straße Alte Vaalser Straße Aachen 52074 Deutschland;X-APPLE-RADIUS=500;X-TITLE=Alte Vaalser Straße:geo:6.0296122,50.7686866
END:VEVENT
BEGIN:VEVENT
DTSTART;TZID=Europe/Berlin:20240430T193000
DTEND;TZID=Europe/Berlin:20240430T213000
DTSTAMP:20260422T165402
CREATED:20230727T163825Z
LAST-MODIFIED:20230727T164119Z
UID:10007766-1714505400-1714512600@fv-vaalserquartier.de
SUMMARY:FVV 2 - Training (2024)
DESCRIPTION:
URL:https://fv-vaalserquartier.de/veranstaltung/fvv-1-training-2023-4/2024-04-30/
LOCATION:Kunstrasenplatz Alte Vaalser Straße\, Alte Vaalser Straße\, Aachen\, 52074\, Deutschland
CATEGORIES:Training
ATTACH;FMTTYPE=image/jpeg:https://fv-vaalserquartier.de/wp-content/uploads/2022/02/sportplatz_kunstrasen_.jpg
ORGANIZER;CN="FVV 2":MAILTO:fvv2-trainer@fv-vaalserquartier.de
GEO:50.7686866;6.0296122
X-APPLE-STRUCTURED-LOCATION;VALUE=URI;X-ADDRESS=Kunstrasenplatz Alte Vaalser Straße Alte Vaalser Straße Aachen 52074 Deutschland;X-APPLE-RADIUS=500;X-TITLE=Alte Vaalser Straße:geo:6.0296122,50.7686866
END:VEVENT
BEGIN:VEVENT
DTSTART;TZID=Europe/Berlin:20240425T193000
DTEND;TZID=Europe/Berlin:20240425T213000
DTSTAMP:20260422T165402
CREATED:20230727T163825Z
LAST-MODIFIED:20230727T164119Z
UID:10007765-1714073400-1714080600@fv-vaalserquartier.de
SUMMARY:FVV 2 - Training (2024)
DESCRIPTION:
URL:https://fv-vaalserquartier.de/veranstaltung/fvv-1-training-2023-4/2024-04-25/
LOCATION:Kunstrasenplatz Alte Vaalser Straße\, Alte Vaalser Straße\, Aachen\, 52074\, Deutschland
CATEGORIES:Training
ATTACH;FMTTYPE=image/jpeg:https://fv-vaalserquartier.de/wp-content/uploads/2022/02/sportplatz_kunstrasen_.jpg
ORGANIZER;CN="FVV 2":MAILTO:fvv2-trainer@fv-vaalserquartier.de
GEO:50.7686866;6.0296122
X-APPLE-STRUCTURED-LOCATION;VALUE=URI;X-ADDRESS=Kunstrasenplatz Alte Vaalser Straße Alte Vaalser Straße Aachen 52074 Deutschland;X-APPLE-RADIUS=500;X-TITLE=Alte Vaalser Straße:geo:6.0296122,50.7686866
END:VEVENT
BEGIN:VEVENT
DTSTART;TZID=Europe/Berlin:20240423T193000
DTEND;TZID=Europe/Berlin:20240423T213000
DTSTAMP:20260422T165402
CREATED:20230727T163825Z
LAST-MODIFIED:20230727T164119Z
UID:10007764-1713900600-1713907800@fv-vaalserquartier.de
SUMMARY:FVV 2 - Training (2024)
DESCRIPTION:
URL:https://fv-vaalserquartier.de/veranstaltung/fvv-1-training-2023-4/2024-04-23/
LOCATION:Kunstrasenplatz Alte Vaalser Straße\, Alte Vaalser Straße\, Aachen\, 52074\, Deutschland
CATEGORIES:Training
ATTACH;FMTTYPE=image/jpeg:https://fv-vaalserquartier.de/wp-content/uploads/2022/02/sportplatz_kunstrasen_.jpg
ORGANIZER;CN="FVV 2":MAILTO:fvv2-trainer@fv-vaalserquartier.de
GEO:50.7686866;6.0296122
X-APPLE-STRUCTURED-LOCATION;VALUE=URI;X-ADDRESS=Kunstrasenplatz Alte Vaalser Straße Alte Vaalser Straße Aachen 52074 Deutschland;X-APPLE-RADIUS=500;X-TITLE=Alte Vaalser Straße:geo:6.0296122,50.7686866
END:VEVENT
BEGIN:VEVENT
DTSTART;TZID=Europe/Berlin:20240418T193000
DTEND;TZID=Europe/Berlin:20240418T213000
DTSTAMP:20260422T165402
CREATED:20230727T163825Z
LAST-MODIFIED:20230727T164119Z
UID:10007763-1713468600-1713475800@fv-vaalserquartier.de
SUMMARY:FVV 2 - Training (2024)
DESCRIPTION:
URL:https://fv-vaalserquartier.de/veranstaltung/fvv-1-training-2023-4/2024-04-18/
LOCATION:Kunstrasenplatz Alte Vaalser Straße\, Alte Vaalser Straße\, Aachen\, 52074\, Deutschland
CATEGORIES:Training
ATTACH;FMTTYPE=image/jpeg:https://fv-vaalserquartier.de/wp-content/uploads/2022/02/sportplatz_kunstrasen_.jpg
ORGANIZER;CN="FVV 2":MAILTO:fvv2-trainer@fv-vaalserquartier.de
GEO:50.7686866;6.0296122
X-APPLE-STRUCTURED-LOCATION;VALUE=URI;X-ADDRESS=Kunstrasenplatz Alte Vaalser Straße Alte Vaalser Straße Aachen 52074 Deutschland;X-APPLE-RADIUS=500;X-TITLE=Alte Vaalser Straße:geo:6.0296122,50.7686866
END:VEVENT
BEGIN:VEVENT
DTSTART;TZID=Europe/Berlin:20240416T193000
DTEND;TZID=Europe/Berlin:20240416T213000
DTSTAMP:20260422T165402
CREATED:20230727T163825Z
LAST-MODIFIED:20230727T164119Z
UID:10007762-1713295800-1713303000@fv-vaalserquartier.de
SUMMARY:FVV 2 - Training (2024)
DESCRIPTION:
URL:https://fv-vaalserquartier.de/veranstaltung/fvv-1-training-2023-4/2024-04-16/
LOCATION:Kunstrasenplatz Alte Vaalser Straße\, Alte Vaalser Straße\, Aachen\, 52074\, Deutschland
CATEGORIES:Training
ATTACH;FMTTYPE=image/jpeg:https://fv-vaalserquartier.de/wp-content/uploads/2022/02/sportplatz_kunstrasen_.jpg
ORGANIZER;CN="FVV 2":MAILTO:fvv2-trainer@fv-vaalserquartier.de
GEO:50.7686866;6.0296122
X-APPLE-STRUCTURED-LOCATION;VALUE=URI;X-ADDRESS=Kunstrasenplatz Alte Vaalser Straße Alte Vaalser Straße Aachen 52074 Deutschland;X-APPLE-RADIUS=500;X-TITLE=Alte Vaalser Straße:geo:6.0296122,50.7686866
END:VEVENT
BEGIN:VEVENT
DTSTART;TZID=Europe/Berlin:20240411T193000
DTEND;TZID=Europe/Berlin:20240411T213000
DTSTAMP:20260422T165402
CREATED:20230727T163825Z
LAST-MODIFIED:20230727T164119Z
UID:10007761-1712863800-1712871000@fv-vaalserquartier.de
SUMMARY:FVV 2 - Training (2024)
DESCRIPTION:
URL:https://fv-vaalserquartier.de/veranstaltung/fvv-1-training-2023-4/2024-04-11/
LOCATION:Kunstrasenplatz Alte Vaalser Straße\, Alte Vaalser Straße\, Aachen\, 52074\, Deutschland
CATEGORIES:Training
ATTACH;FMTTYPE=image/jpeg:https://fv-vaalserquartier.de/wp-content/uploads/2022/02/sportplatz_kunstrasen_.jpg
ORGANIZER;CN="FVV 2":MAILTO:fvv2-trainer@fv-vaalserquartier.de
GEO:50.7686866;6.0296122
X-APPLE-STRUCTURED-LOCATION;VALUE=URI;X-ADDRESS=Kunstrasenplatz Alte Vaalser Straße Alte Vaalser Straße Aachen 52074 Deutschland;X-APPLE-RADIUS=500;X-TITLE=Alte Vaalser Straße:geo:6.0296122,50.7686866
END:VEVENT
BEGIN:VEVENT
DTSTART;TZID=Europe/Berlin:20240409T193000
DTEND;TZID=Europe/Berlin:20240409T213000
DTSTAMP:20260422T165402
CREATED:20230727T163825Z
LAST-MODIFIED:20230727T164119Z
UID:10007760-1712691000-1712698200@fv-vaalserquartier.de
SUMMARY:FVV 2 - Training (2024)
DESCRIPTION:
URL:https://fv-vaalserquartier.de/veranstaltung/fvv-1-training-2023-4/2024-04-09/
LOCATION:Kunstrasenplatz Alte Vaalser Straße\, Alte Vaalser Straße\, Aachen\, 52074\, Deutschland
CATEGORIES:Training
ATTACH;FMTTYPE=image/jpeg:https://fv-vaalserquartier.de/wp-content/uploads/2022/02/sportplatz_kunstrasen_.jpg
ORGANIZER;CN="FVV 2":MAILTO:fvv2-trainer@fv-vaalserquartier.de
GEO:50.7686866;6.0296122
X-APPLE-STRUCTURED-LOCATION;VALUE=URI;X-ADDRESS=Kunstrasenplatz Alte Vaalser Straße Alte Vaalser Straße Aachen 52074 Deutschland;X-APPLE-RADIUS=500;X-TITLE=Alte Vaalser Straße:geo:6.0296122,50.7686866
END:VEVENT
BEGIN:VEVENT
DTSTART;TZID=Europe/Berlin:20240404T193000
DTEND;TZID=Europe/Berlin:20240404T213000
DTSTAMP:20260422T165402
CREATED:20230727T163825Z
LAST-MODIFIED:20230727T164119Z
UID:10007759-1712259000-1712266200@fv-vaalserquartier.de
SUMMARY:FVV 2 - Training (2024)
DESCRIPTION:
URL:https://fv-vaalserquartier.de/veranstaltung/fvv-1-training-2023-4/2024-04-04/
LOCATION:Kunstrasenplatz Alte Vaalser Straße\, Alte Vaalser Straße\, Aachen\, 52074\, Deutschland
CATEGORIES:Training
ATTACH;FMTTYPE=image/jpeg:https://fv-vaalserquartier.de/wp-content/uploads/2022/02/sportplatz_kunstrasen_.jpg
ORGANIZER;CN="FVV 2":MAILTO:fvv2-trainer@fv-vaalserquartier.de
GEO:50.7686866;6.0296122
X-APPLE-STRUCTURED-LOCATION;VALUE=URI;X-ADDRESS=Kunstrasenplatz Alte Vaalser Straße Alte Vaalser Straße Aachen 52074 Deutschland;X-APPLE-RADIUS=500;X-TITLE=Alte Vaalser Straße:geo:6.0296122,50.7686866
END:VEVENT
BEGIN:VEVENT
DTSTART;TZID=Europe/Berlin:20240402T193000
DTEND;TZID=Europe/Berlin:20240402T213000
DTSTAMP:20260422T165402
CREATED:20230727T163825Z
LAST-MODIFIED:20230727T164119Z
UID:10007758-1712086200-1712093400@fv-vaalserquartier.de
SUMMARY:FVV 2 - Training (2024)
DESCRIPTION:
URL:https://fv-vaalserquartier.de/veranstaltung/fvv-1-training-2023-4/2024-04-02/
LOCATION:Kunstrasenplatz Alte Vaalser Straße\, Alte Vaalser Straße\, Aachen\, 52074\, Deutschland
CATEGORIES:Training
ATTACH;FMTTYPE=image/jpeg:https://fv-vaalserquartier.de/wp-content/uploads/2022/02/sportplatz_kunstrasen_.jpg
ORGANIZER;CN="FVV 2":MAILTO:fvv2-trainer@fv-vaalserquartier.de
GEO:50.7686866;6.0296122
X-APPLE-STRUCTURED-LOCATION;VALUE=URI;X-ADDRESS=Kunstrasenplatz Alte Vaalser Straße Alte Vaalser Straße Aachen 52074 Deutschland;X-APPLE-RADIUS=500;X-TITLE=Alte Vaalser Straße:geo:6.0296122,50.7686866
END:VEVENT
BEGIN:VEVENT
DTSTART;TZID=Europe/Berlin:20240328T193000
DTEND;TZID=Europe/Berlin:20240328T213000
DTSTAMP:20260422T165402
CREATED:20230727T163825Z
LAST-MODIFIED:20230727T164119Z
UID:10007757-1711654200-1711661400@fv-vaalserquartier.de
SUMMARY:FVV 2 - Training (2024)
DESCRIPTION:
URL:https://fv-vaalserquartier.de/veranstaltung/fvv-1-training-2023-4/2024-03-28/
LOCATION:Kunstrasenplatz Alte Vaalser Straße\, Alte Vaalser Straße\, Aachen\, 52074\, Deutschland
CATEGORIES:Training
ATTACH;FMTTYPE=image/jpeg:https://fv-vaalserquartier.de/wp-content/uploads/2022/02/sportplatz_kunstrasen_.jpg
ORGANIZER;CN="FVV 2":MAILTO:fvv2-trainer@fv-vaalserquartier.de
GEO:50.7686866;6.0296122
X-APPLE-STRUCTURED-LOCATION;VALUE=URI;X-ADDRESS=Kunstrasenplatz Alte Vaalser Straße Alte Vaalser Straße Aachen 52074 Deutschland;X-APPLE-RADIUS=500;X-TITLE=Alte Vaalser Straße:geo:6.0296122,50.7686866
END:VEVENT
BEGIN:VEVENT
DTSTART;TZID=Europe/Berlin:20240326T193000
DTEND;TZID=Europe/Berlin:20240326T213000
DTSTAMP:20260422T165402
CREATED:20230727T163825Z
LAST-MODIFIED:20230727T164119Z
UID:10007756-1711481400-1711488600@fv-vaalserquartier.de
SUMMARY:FVV 2 - Training (2024)
DESCRIPTION:
URL:https://fv-vaalserquartier.de/veranstaltung/fvv-1-training-2023-4/2024-03-26/
LOCATION:Kunstrasenplatz Alte Vaalser Straße\, Alte Vaalser Straße\, Aachen\, 52074\, Deutschland
CATEGORIES:Training
ATTACH;FMTTYPE=image/jpeg:https://fv-vaalserquartier.de/wp-content/uploads/2022/02/sportplatz_kunstrasen_.jpg
ORGANIZER;CN="FVV 2":MAILTO:fvv2-trainer@fv-vaalserquartier.de
GEO:50.7686866;6.0296122
X-APPLE-STRUCTURED-LOCATION;VALUE=URI;X-ADDRESS=Kunstrasenplatz Alte Vaalser Straße Alte Vaalser Straße Aachen 52074 Deutschland;X-APPLE-RADIUS=500;X-TITLE=Alte Vaalser Straße:geo:6.0296122,50.7686866
END:VEVENT
BEGIN:VEVENT
DTSTART;TZID=Europe/Berlin:20240321T193000
DTEND;TZID=Europe/Berlin:20240321T213000
DTSTAMP:20260422T165402
CREATED:20230727T163825Z
LAST-MODIFIED:20230727T164119Z
UID:10007755-1711049400-1711056600@fv-vaalserquartier.de
SUMMARY:FVV 2 - Training (2024)
DESCRIPTION:
URL:https://fv-vaalserquartier.de/veranstaltung/fvv-1-training-2023-4/2024-03-21/
LOCATION:Kunstrasenplatz Alte Vaalser Straße\, Alte Vaalser Straße\, Aachen\, 52074\, Deutschland
CATEGORIES:Training
ATTACH;FMTTYPE=image/jpeg:https://fv-vaalserquartier.de/wp-content/uploads/2022/02/sportplatz_kunstrasen_.jpg
ORGANIZER;CN="FVV 2":MAILTO:fvv2-trainer@fv-vaalserquartier.de
GEO:50.7686866;6.0296122
X-APPLE-STRUCTURED-LOCATION;VALUE=URI;X-ADDRESS=Kunstrasenplatz Alte Vaalser Straße Alte Vaalser Straße Aachen 52074 Deutschland;X-APPLE-RADIUS=500;X-TITLE=Alte Vaalser Straße:geo:6.0296122,50.7686866
END:VEVENT
BEGIN:VEVENT
DTSTART;TZID=Europe/Berlin:20240319T193000
DTEND;TZID=Europe/Berlin:20240319T213000
DTSTAMP:20260422T165402
CREATED:20230727T163825Z
LAST-MODIFIED:20230727T164119Z
UID:10007754-1710876600-1710883800@fv-vaalserquartier.de
SUMMARY:FVV 2 - Training (2024)
DESCRIPTION:
URL:https://fv-vaalserquartier.de/veranstaltung/fvv-1-training-2023-4/2024-03-19/
LOCATION:Kunstrasenplatz Alte Vaalser Straße\, Alte Vaalser Straße\, Aachen\, 52074\, Deutschland
CATEGORIES:Training
ATTACH;FMTTYPE=image/jpeg:https://fv-vaalserquartier.de/wp-content/uploads/2022/02/sportplatz_kunstrasen_.jpg
ORGANIZER;CN="FVV 2":MAILTO:fvv2-trainer@fv-vaalserquartier.de
GEO:50.7686866;6.0296122
X-APPLE-STRUCTURED-LOCATION;VALUE=URI;X-ADDRESS=Kunstrasenplatz Alte Vaalser Straße Alte Vaalser Straße Aachen 52074 Deutschland;X-APPLE-RADIUS=500;X-TITLE=Alte Vaalser Straße:geo:6.0296122,50.7686866
END:VEVENT
BEGIN:VEVENT
DTSTART;TZID=Europe/Berlin:20240314T193000
DTEND;TZID=Europe/Berlin:20240314T213000
DTSTAMP:20260422T165402
CREATED:20230727T163825Z
LAST-MODIFIED:20230727T164119Z
UID:10007753-1710444600-1710451800@fv-vaalserquartier.de
SUMMARY:FVV 2 - Training (2024)
DESCRIPTION:
URL:https://fv-vaalserquartier.de/veranstaltung/fvv-1-training-2023-4/2024-03-14/
LOCATION:Kunstrasenplatz Alte Vaalser Straße\, Alte Vaalser Straße\, Aachen\, 52074\, Deutschland
CATEGORIES:Training
ATTACH;FMTTYPE=image/jpeg:https://fv-vaalserquartier.de/wp-content/uploads/2022/02/sportplatz_kunstrasen_.jpg
ORGANIZER;CN="FVV 2":MAILTO:fvv2-trainer@fv-vaalserquartier.de
GEO:50.7686866;6.0296122
X-APPLE-STRUCTURED-LOCATION;VALUE=URI;X-ADDRESS=Kunstrasenplatz Alte Vaalser Straße Alte Vaalser Straße Aachen 52074 Deutschland;X-APPLE-RADIUS=500;X-TITLE=Alte Vaalser Straße:geo:6.0296122,50.7686866
END:VEVENT
BEGIN:VEVENT
DTSTART;TZID=Europe/Berlin:20240312T193000
DTEND;TZID=Europe/Berlin:20240312T213000
DTSTAMP:20260422T165402
CREATED:20230727T163825Z
LAST-MODIFIED:20230727T164119Z
UID:10007752-1710271800-1710279000@fv-vaalserquartier.de
SUMMARY:FVV 2 - Training (2024)
DESCRIPTION:
URL:https://fv-vaalserquartier.de/veranstaltung/fvv-1-training-2023-4/2024-03-12/
LOCATION:Kunstrasenplatz Alte Vaalser Straße\, Alte Vaalser Straße\, Aachen\, 52074\, Deutschland
CATEGORIES:Training
ATTACH;FMTTYPE=image/jpeg:https://fv-vaalserquartier.de/wp-content/uploads/2022/02/sportplatz_kunstrasen_.jpg
ORGANIZER;CN="FVV 2":MAILTO:fvv2-trainer@fv-vaalserquartier.de
GEO:50.7686866;6.0296122
X-APPLE-STRUCTURED-LOCATION;VALUE=URI;X-ADDRESS=Kunstrasenplatz Alte Vaalser Straße Alte Vaalser Straße Aachen 52074 Deutschland;X-APPLE-RADIUS=500;X-TITLE=Alte Vaalser Straße:geo:6.0296122,50.7686866
END:VEVENT
END:VCALENDAR