BEGIN:VCALENDAR
VERSION:2.0
PRODID:-//FV Vaalserquartier - ECPv6.15.15//NONSGML v1.0//EN
CALSCALE:GREGORIAN
METHOD:PUBLISH
X-WR-CALNAME:FV Vaalserquartier
X-ORIGINAL-URL:https://fv-vaalserquartier.de
X-WR-CALDESC:Veranstaltungen für FV Vaalserquartier
REFRESH-INTERVAL;VALUE=DURATION:PT1H
X-Robots-Tag:noindex
X-PUBLISHED-TTL:PT1H
BEGIN:VTIMEZONE
TZID:Europe/Berlin
BEGIN:DAYLIGHT
TZOFFSETFROM:+0100
TZOFFSETTO:+0200
TZNAME:CEST
DTSTART:20230326T010000
END:DAYLIGHT
BEGIN:STANDARD
TZOFFSETFROM:+0200
TZOFFSETTO:+0100
TZNAME:CET
DTSTART:20231029T010000
END:STANDARD
BEGIN:DAYLIGHT
TZOFFSETFROM:+0100
TZOFFSETTO:+0200
TZNAME:CEST
DTSTART:20240331T010000
END:DAYLIGHT
BEGIN:STANDARD
TZOFFSETFROM:+0200
TZOFFSETTO:+0100
TZNAME:CET
DTSTART:20241027T010000
END:STANDARD
BEGIN:DAYLIGHT
TZOFFSETFROM:+0100
TZOFFSETTO:+0200
TZNAME:CEST
DTSTART:20250330T010000
END:DAYLIGHT
BEGIN:STANDARD
TZOFFSETFROM:+0200
TZOFFSETTO:+0100
TZNAME:CET
DTSTART:20251026T010000
END:STANDARD
END:VTIMEZONE
BEGIN:VEVENT
DTSTART;TZID=Europe/Berlin:20240523T163000
DTEND;TZID=Europe/Berlin:20240523T180000
DTSTAMP:20260425T125624
CREATED:20230726T220600Z
LAST-MODIFIED:20230726T220742Z
UID:10007391-1716481800-1716487200@fv-vaalserquartier.de
SUMMARY:F2 - Training (2024)
DESCRIPTION:
URL:https://fv-vaalserquartier.de/veranstaltung/f2-training-2024/2024-05-23/
LOCATION:Stadion West – Hartplatz
CATEGORIES:Training
ATTACH;FMTTYPE=image/jpeg:https://fv-vaalserquartier.de/wp-content/uploads/2022/03/Asche-Eckejpg.jpg
ORGANIZER;CN="F2":MAILTO:f2-trainer@fv-vaalserquartier.de
GEO:50,770118;6,044067
END:VEVENT
BEGIN:VEVENT
DTSTART;TZID=Europe/Berlin:20240521T163000
DTEND;TZID=Europe/Berlin:20240521T180000
DTSTAMP:20260425T125624
CREATED:20230726T220712Z
LAST-MODIFIED:20230726T220714Z
UID:10007448-1716309000-1716314400@fv-vaalserquartier.de
SUMMARY:F2 - Training
DESCRIPTION:
URL:https://fv-vaalserquartier.de/veranstaltung/f2-training-2/2024-05-21/
LOCATION:Kunstrasenplatz Alte Vaalser Straße\, Alte Vaalser Straße\, Aachen\, 52074\, Deutschland
CATEGORIES:Training
ATTACH;FMTTYPE=image/jpeg:https://fv-vaalserquartier.de/wp-content/uploads/2022/03/Asche-Eckejpg.jpg
ORGANIZER;CN="F2":MAILTO:f2-trainer@fv-vaalserquartier.de
GEO:50.7686866;6.0296122
X-APPLE-STRUCTURED-LOCATION;VALUE=URI;X-ADDRESS=Kunstrasenplatz Alte Vaalser Straße Alte Vaalser Straße Aachen 52074 Deutschland;X-APPLE-RADIUS=500;X-TITLE=Alte Vaalser Straße:geo:6.0296122,50.7686866
END:VEVENT
BEGIN:VEVENT
DTSTART;TZID=Europe/Berlin:20240516T163000
DTEND;TZID=Europe/Berlin:20240516T180000
DTSTAMP:20260425T125624
CREATED:20230726T220600Z
LAST-MODIFIED:20230726T220742Z
UID:10007390-1715877000-1715882400@fv-vaalserquartier.de
SUMMARY:F2 - Training (2024)
DESCRIPTION:
URL:https://fv-vaalserquartier.de/veranstaltung/f2-training-2024/2024-05-16/
LOCATION:Stadion West – Hartplatz
CATEGORIES:Training
ATTACH;FMTTYPE=image/jpeg:https://fv-vaalserquartier.de/wp-content/uploads/2022/03/Asche-Eckejpg.jpg
ORGANIZER;CN="F2":MAILTO:f2-trainer@fv-vaalserquartier.de
GEO:50,770118;6,044067
END:VEVENT
BEGIN:VEVENT
DTSTART;TZID=Europe/Berlin:20240514T163000
DTEND;TZID=Europe/Berlin:20240514T180000
DTSTAMP:20260425T125624
CREATED:20230726T220712Z
LAST-MODIFIED:20230726T220714Z
UID:10007447-1715704200-1715709600@fv-vaalserquartier.de
SUMMARY:F2 - Training
DESCRIPTION:
URL:https://fv-vaalserquartier.de/veranstaltung/f2-training-2/2024-05-14/
LOCATION:Kunstrasenplatz Alte Vaalser Straße\, Alte Vaalser Straße\, Aachen\, 52074\, Deutschland
CATEGORIES:Training
ATTACH;FMTTYPE=image/jpeg:https://fv-vaalserquartier.de/wp-content/uploads/2022/03/Asche-Eckejpg.jpg
ORGANIZER;CN="F2":MAILTO:f2-trainer@fv-vaalserquartier.de
GEO:50.7686866;6.0296122
X-APPLE-STRUCTURED-LOCATION;VALUE=URI;X-ADDRESS=Kunstrasenplatz Alte Vaalser Straße Alte Vaalser Straße Aachen 52074 Deutschland;X-APPLE-RADIUS=500;X-TITLE=Alte Vaalser Straße:geo:6.0296122,50.7686866
END:VEVENT
BEGIN:VEVENT
DTSTART;TZID=Europe/Berlin:20240509T163000
DTEND;TZID=Europe/Berlin:20240509T180000
DTSTAMP:20260425T125624
CREATED:20230726T220600Z
LAST-MODIFIED:20230726T220742Z
UID:10007389-1715272200-1715277600@fv-vaalserquartier.de
SUMMARY:F2 - Training (2024)
DESCRIPTION:
URL:https://fv-vaalserquartier.de/veranstaltung/f2-training-2024/2024-05-09/
LOCATION:Stadion West – Hartplatz
CATEGORIES:Training
ATTACH;FMTTYPE=image/jpeg:https://fv-vaalserquartier.de/wp-content/uploads/2022/03/Asche-Eckejpg.jpg
ORGANIZER;CN="F2":MAILTO:f2-trainer@fv-vaalserquartier.de
GEO:50,770118;6,044067
END:VEVENT
BEGIN:VEVENT
DTSTART;TZID=Europe/Berlin:20240507T163000
DTEND;TZID=Europe/Berlin:20240507T180000
DTSTAMP:20260425T125624
CREATED:20230726T220712Z
LAST-MODIFIED:20230726T220714Z
UID:10007446-1715099400-1715104800@fv-vaalserquartier.de
SUMMARY:F2 - Training
DESCRIPTION:
URL:https://fv-vaalserquartier.de/veranstaltung/f2-training-2/2024-05-07/
LOCATION:Kunstrasenplatz Alte Vaalser Straße\, Alte Vaalser Straße\, Aachen\, 52074\, Deutschland
CATEGORIES:Training
ATTACH;FMTTYPE=image/jpeg:https://fv-vaalserquartier.de/wp-content/uploads/2022/03/Asche-Eckejpg.jpg
ORGANIZER;CN="F2":MAILTO:f2-trainer@fv-vaalserquartier.de
GEO:50.7686866;6.0296122
X-APPLE-STRUCTURED-LOCATION;VALUE=URI;X-ADDRESS=Kunstrasenplatz Alte Vaalser Straße Alte Vaalser Straße Aachen 52074 Deutschland;X-APPLE-RADIUS=500;X-TITLE=Alte Vaalser Straße:geo:6.0296122,50.7686866
END:VEVENT
BEGIN:VEVENT
DTSTART;TZID=Europe/Berlin:20240502T163000
DTEND;TZID=Europe/Berlin:20240502T180000
DTSTAMP:20260425T125624
CREATED:20230726T220600Z
LAST-MODIFIED:20230726T220742Z
UID:10007388-1714667400-1714672800@fv-vaalserquartier.de
SUMMARY:F2 - Training (2024)
DESCRIPTION:
URL:https://fv-vaalserquartier.de/veranstaltung/f2-training-2024/2024-05-02/
LOCATION:Stadion West – Hartplatz
CATEGORIES:Training
ATTACH;FMTTYPE=image/jpeg:https://fv-vaalserquartier.de/wp-content/uploads/2022/03/Asche-Eckejpg.jpg
ORGANIZER;CN="F2":MAILTO:f2-trainer@fv-vaalserquartier.de
GEO:50,770118;6,044067
END:VEVENT
BEGIN:VEVENT
DTSTART;TZID=Europe/Berlin:20240430T163000
DTEND;TZID=Europe/Berlin:20240430T180000
DTSTAMP:20260425T125624
CREATED:20230726T220712Z
LAST-MODIFIED:20230726T220714Z
UID:10007445-1714494600-1714500000@fv-vaalserquartier.de
SUMMARY:F2 - Training
DESCRIPTION:
URL:https://fv-vaalserquartier.de/veranstaltung/f2-training-2/2024-04-30/
LOCATION:Kunstrasenplatz Alte Vaalser Straße\, Alte Vaalser Straße\, Aachen\, 52074\, Deutschland
CATEGORIES:Training
ATTACH;FMTTYPE=image/jpeg:https://fv-vaalserquartier.de/wp-content/uploads/2022/03/Asche-Eckejpg.jpg
ORGANIZER;CN="F2":MAILTO:f2-trainer@fv-vaalserquartier.de
GEO:50.7686866;6.0296122
X-APPLE-STRUCTURED-LOCATION;VALUE=URI;X-ADDRESS=Kunstrasenplatz Alte Vaalser Straße Alte Vaalser Straße Aachen 52074 Deutschland;X-APPLE-RADIUS=500;X-TITLE=Alte Vaalser Straße:geo:6.0296122,50.7686866
END:VEVENT
BEGIN:VEVENT
DTSTART;TZID=Europe/Berlin:20240425T163000
DTEND;TZID=Europe/Berlin:20240425T180000
DTSTAMP:20260425T125624
CREATED:20230726T220600Z
LAST-MODIFIED:20230726T220742Z
UID:10007387-1714062600-1714068000@fv-vaalserquartier.de
SUMMARY:F2 - Training (2024)
DESCRIPTION:
URL:https://fv-vaalserquartier.de/veranstaltung/f2-training-2024/2024-04-25/
LOCATION:Stadion West – Hartplatz
CATEGORIES:Training
ATTACH;FMTTYPE=image/jpeg:https://fv-vaalserquartier.de/wp-content/uploads/2022/03/Asche-Eckejpg.jpg
ORGANIZER;CN="F2":MAILTO:f2-trainer@fv-vaalserquartier.de
GEO:50,770118;6,044067
END:VEVENT
BEGIN:VEVENT
DTSTART;TZID=Europe/Berlin:20240423T163000
DTEND;TZID=Europe/Berlin:20240423T180000
DTSTAMP:20260425T125624
CREATED:20230726T220712Z
LAST-MODIFIED:20230726T220714Z
UID:10007444-1713889800-1713895200@fv-vaalserquartier.de
SUMMARY:F2 - Training
DESCRIPTION:
URL:https://fv-vaalserquartier.de/veranstaltung/f2-training-2/2024-04-23/
LOCATION:Kunstrasenplatz Alte Vaalser Straße\, Alte Vaalser Straße\, Aachen\, 52074\, Deutschland
CATEGORIES:Training
ATTACH;FMTTYPE=image/jpeg:https://fv-vaalserquartier.de/wp-content/uploads/2022/03/Asche-Eckejpg.jpg
ORGANIZER;CN="F2":MAILTO:f2-trainer@fv-vaalserquartier.de
GEO:50.7686866;6.0296122
X-APPLE-STRUCTURED-LOCATION;VALUE=URI;X-ADDRESS=Kunstrasenplatz Alte Vaalser Straße Alte Vaalser Straße Aachen 52074 Deutschland;X-APPLE-RADIUS=500;X-TITLE=Alte Vaalser Straße:geo:6.0296122,50.7686866
END:VEVENT
BEGIN:VEVENT
DTSTART;TZID=Europe/Berlin:20240418T163000
DTEND;TZID=Europe/Berlin:20240418T180000
DTSTAMP:20260425T125624
CREATED:20230726T220600Z
LAST-MODIFIED:20230726T220742Z
UID:10007386-1713457800-1713463200@fv-vaalserquartier.de
SUMMARY:F2 - Training (2024)
DESCRIPTION:
URL:https://fv-vaalserquartier.de/veranstaltung/f2-training-2024/2024-04-18/
LOCATION:Stadion West – Hartplatz
CATEGORIES:Training
ATTACH;FMTTYPE=image/jpeg:https://fv-vaalserquartier.de/wp-content/uploads/2022/03/Asche-Eckejpg.jpg
ORGANIZER;CN="F2":MAILTO:f2-trainer@fv-vaalserquartier.de
GEO:50,770118;6,044067
END:VEVENT
BEGIN:VEVENT
DTSTART;TZID=Europe/Berlin:20240416T163000
DTEND;TZID=Europe/Berlin:20240416T180000
DTSTAMP:20260425T125624
CREATED:20230726T220712Z
LAST-MODIFIED:20230726T220714Z
UID:10007443-1713285000-1713290400@fv-vaalserquartier.de
SUMMARY:F2 - Training
DESCRIPTION:
URL:https://fv-vaalserquartier.de/veranstaltung/f2-training-2/2024-04-16/
LOCATION:Kunstrasenplatz Alte Vaalser Straße\, Alte Vaalser Straße\, Aachen\, 52074\, Deutschland
CATEGORIES:Training
ATTACH;FMTTYPE=image/jpeg:https://fv-vaalserquartier.de/wp-content/uploads/2022/03/Asche-Eckejpg.jpg
ORGANIZER;CN="F2":MAILTO:f2-trainer@fv-vaalserquartier.de
GEO:50.7686866;6.0296122
X-APPLE-STRUCTURED-LOCATION;VALUE=URI;X-ADDRESS=Kunstrasenplatz Alte Vaalser Straße Alte Vaalser Straße Aachen 52074 Deutschland;X-APPLE-RADIUS=500;X-TITLE=Alte Vaalser Straße:geo:6.0296122,50.7686866
END:VEVENT
BEGIN:VEVENT
DTSTART;TZID=Europe/Berlin:20240411T163000
DTEND;TZID=Europe/Berlin:20240411T180000
DTSTAMP:20260425T125624
CREATED:20230726T220600Z
LAST-MODIFIED:20230726T220742Z
UID:10007385-1712853000-1712858400@fv-vaalserquartier.de
SUMMARY:F2 - Training (2024)
DESCRIPTION:
URL:https://fv-vaalserquartier.de/veranstaltung/f2-training-2024/2024-04-11/
LOCATION:Stadion West – Hartplatz
CATEGORIES:Training
ATTACH;FMTTYPE=image/jpeg:https://fv-vaalserquartier.de/wp-content/uploads/2022/03/Asche-Eckejpg.jpg
ORGANIZER;CN="F2":MAILTO:f2-trainer@fv-vaalserquartier.de
GEO:50,770118;6,044067
END:VEVENT
BEGIN:VEVENT
DTSTART;TZID=Europe/Berlin:20240409T163000
DTEND;TZID=Europe/Berlin:20240409T180000
DTSTAMP:20260425T125624
CREATED:20230726T220712Z
LAST-MODIFIED:20230726T220714Z
UID:10007442-1712680200-1712685600@fv-vaalserquartier.de
SUMMARY:F2 - Training
DESCRIPTION:
URL:https://fv-vaalserquartier.de/veranstaltung/f2-training-2/2024-04-09/
LOCATION:Kunstrasenplatz Alte Vaalser Straße\, Alte Vaalser Straße\, Aachen\, 52074\, Deutschland
CATEGORIES:Training
ATTACH;FMTTYPE=image/jpeg:https://fv-vaalserquartier.de/wp-content/uploads/2022/03/Asche-Eckejpg.jpg
ORGANIZER;CN="F2":MAILTO:f2-trainer@fv-vaalserquartier.de
GEO:50.7686866;6.0296122
X-APPLE-STRUCTURED-LOCATION;VALUE=URI;X-ADDRESS=Kunstrasenplatz Alte Vaalser Straße Alte Vaalser Straße Aachen 52074 Deutschland;X-APPLE-RADIUS=500;X-TITLE=Alte Vaalser Straße:geo:6.0296122,50.7686866
END:VEVENT
BEGIN:VEVENT
DTSTART;TZID=Europe/Berlin:20240404T163000
DTEND;TZID=Europe/Berlin:20240404T180000
DTSTAMP:20260425T125624
CREATED:20230726T220600Z
LAST-MODIFIED:20230726T220742Z
UID:10007384-1712248200-1712253600@fv-vaalserquartier.de
SUMMARY:F2 - Training (2024)
DESCRIPTION:
URL:https://fv-vaalserquartier.de/veranstaltung/f2-training-2024/2024-04-04/
LOCATION:Stadion West – Hartplatz
CATEGORIES:Training
ATTACH;FMTTYPE=image/jpeg:https://fv-vaalserquartier.de/wp-content/uploads/2022/03/Asche-Eckejpg.jpg
ORGANIZER;CN="F2":MAILTO:f2-trainer@fv-vaalserquartier.de
GEO:50,770118;6,044067
END:VEVENT
BEGIN:VEVENT
DTSTART;TZID=Europe/Berlin:20240402T163000
DTEND;TZID=Europe/Berlin:20240402T180000
DTSTAMP:20260425T125624
CREATED:20230726T220712Z
LAST-MODIFIED:20230726T220714Z
UID:10007441-1712075400-1712080800@fv-vaalserquartier.de
SUMMARY:F2 - Training
DESCRIPTION:
URL:https://fv-vaalserquartier.de/veranstaltung/f2-training-2/2024-04-02/
LOCATION:Kunstrasenplatz Alte Vaalser Straße\, Alte Vaalser Straße\, Aachen\, 52074\, Deutschland
CATEGORIES:Training
ATTACH;FMTTYPE=image/jpeg:https://fv-vaalserquartier.de/wp-content/uploads/2022/03/Asche-Eckejpg.jpg
ORGANIZER;CN="F2":MAILTO:f2-trainer@fv-vaalserquartier.de
GEO:50.7686866;6.0296122
X-APPLE-STRUCTURED-LOCATION;VALUE=URI;X-ADDRESS=Kunstrasenplatz Alte Vaalser Straße Alte Vaalser Straße Aachen 52074 Deutschland;X-APPLE-RADIUS=500;X-TITLE=Alte Vaalser Straße:geo:6.0296122,50.7686866
END:VEVENT
BEGIN:VEVENT
DTSTART;TZID=Europe/Berlin:20240328T163000
DTEND;TZID=Europe/Berlin:20240328T180000
DTSTAMP:20260425T125624
CREATED:20230726T220616Z
LAST-MODIFIED:20230726T220619Z
UID:10007408-1711643400-1711648800@fv-vaalserquartier.de
SUMMARY:F2 - Training (2024)
DESCRIPTION:
URL:https://fv-vaalserquartier.de/veranstaltung/f2-training-2024-2/2024-03-28/
LOCATION:Kunstrasenplatz Alte Vaalser Straße\, Alte Vaalser Straße\, Aachen\, 52074\, Deutschland
CATEGORIES:Training
ATTACH;FMTTYPE=image/jpeg:https://fv-vaalserquartier.de/wp-content/uploads/2022/03/Asche-Eckejpg.jpg
ORGANIZER;CN="F2":MAILTO:f2-trainer@fv-vaalserquartier.de
GEO:50.7686866;6.0296122
X-APPLE-STRUCTURED-LOCATION;VALUE=URI;X-ADDRESS=Kunstrasenplatz Alte Vaalser Straße Alte Vaalser Straße Aachen 52074 Deutschland;X-APPLE-RADIUS=500;X-TITLE=Alte Vaalser Straße:geo:6.0296122,50.7686866
END:VEVENT
BEGIN:VEVENT
DTSTART;TZID=Europe/Berlin:20240326T163000
DTEND;TZID=Europe/Berlin:20240326T180000
DTSTAMP:20260425T125624
CREATED:20230726T220712Z
LAST-MODIFIED:20230726T220714Z
UID:10007440-1711470600-1711476000@fv-vaalserquartier.de
SUMMARY:F2 - Training
DESCRIPTION:
URL:https://fv-vaalserquartier.de/veranstaltung/f2-training-2/2024-03-26/
LOCATION:Kunstrasenplatz Alte Vaalser Straße\, Alte Vaalser Straße\, Aachen\, 52074\, Deutschland
CATEGORIES:Training
ATTACH;FMTTYPE=image/jpeg:https://fv-vaalserquartier.de/wp-content/uploads/2022/03/Asche-Eckejpg.jpg
ORGANIZER;CN="F2":MAILTO:f2-trainer@fv-vaalserquartier.de
GEO:50.7686866;6.0296122
X-APPLE-STRUCTURED-LOCATION;VALUE=URI;X-ADDRESS=Kunstrasenplatz Alte Vaalser Straße Alte Vaalser Straße Aachen 52074 Deutschland;X-APPLE-RADIUS=500;X-TITLE=Alte Vaalser Straße:geo:6.0296122,50.7686866
END:VEVENT
BEGIN:VEVENT
DTSTART;TZID=Europe/Berlin:20240321T163000
DTEND;TZID=Europe/Berlin:20240321T180000
DTSTAMP:20260425T125624
CREATED:20230726T220616Z
LAST-MODIFIED:20230726T220619Z
UID:10007407-1711038600-1711044000@fv-vaalserquartier.de
SUMMARY:F2 - Training (2024)
DESCRIPTION:
URL:https://fv-vaalserquartier.de/veranstaltung/f2-training-2024-2/2024-03-21/
LOCATION:Kunstrasenplatz Alte Vaalser Straße\, Alte Vaalser Straße\, Aachen\, 52074\, Deutschland
CATEGORIES:Training
ATTACH;FMTTYPE=image/jpeg:https://fv-vaalserquartier.de/wp-content/uploads/2022/03/Asche-Eckejpg.jpg
ORGANIZER;CN="F2":MAILTO:f2-trainer@fv-vaalserquartier.de
GEO:50.7686866;6.0296122
X-APPLE-STRUCTURED-LOCATION;VALUE=URI;X-ADDRESS=Kunstrasenplatz Alte Vaalser Straße Alte Vaalser Straße Aachen 52074 Deutschland;X-APPLE-RADIUS=500;X-TITLE=Alte Vaalser Straße:geo:6.0296122,50.7686866
END:VEVENT
BEGIN:VEVENT
DTSTART;TZID=Europe/Berlin:20240319T163000
DTEND;TZID=Europe/Berlin:20240319T180000
DTSTAMP:20260425T125624
CREATED:20230726T220712Z
LAST-MODIFIED:20230726T220714Z
UID:10007439-1710865800-1710871200@fv-vaalserquartier.de
SUMMARY:F2 - Training
DESCRIPTION:
URL:https://fv-vaalserquartier.de/veranstaltung/f2-training-2/2024-03-19/
LOCATION:Kunstrasenplatz Alte Vaalser Straße\, Alte Vaalser Straße\, Aachen\, 52074\, Deutschland
CATEGORIES:Training
ATTACH;FMTTYPE=image/jpeg:https://fv-vaalserquartier.de/wp-content/uploads/2022/03/Asche-Eckejpg.jpg
ORGANIZER;CN="F2":MAILTO:f2-trainer@fv-vaalserquartier.de
GEO:50.7686866;6.0296122
X-APPLE-STRUCTURED-LOCATION;VALUE=URI;X-ADDRESS=Kunstrasenplatz Alte Vaalser Straße Alte Vaalser Straße Aachen 52074 Deutschland;X-APPLE-RADIUS=500;X-TITLE=Alte Vaalser Straße:geo:6.0296122,50.7686866
END:VEVENT
BEGIN:VEVENT
DTSTART;TZID=Europe/Berlin:20240316T100000
DTEND;TZID=Europe/Berlin:20240316T120000
DTSTAMP:20260425T125624
CREATED:20240310T171752Z
LAST-MODIFIED:20240310T171754Z
UID:10008029-1710583200-1710590400@fv-vaalserquartier.de
SUMMARY:testspiel - F2
DESCRIPTION:
URL:https://fv-vaalserquartier.de/veranstaltung/testspiel-f2/
LOCATION:Kunstrasenplatz Alte Vaalser Straße\, Alte Vaalser Straße\, Aachen\, 52074\, Deutschland
CATEGORIES:Auf dem Sportplatz,Heimspiel,Spiel,Testspiel
ORGANIZER;CN="F2":MAILTO:f2-trainer@fv-vaalserquartier.de
GEO:50.7686866;6.0296122
X-APPLE-STRUCTURED-LOCATION;VALUE=URI;X-ADDRESS=Kunstrasenplatz Alte Vaalser Straße Alte Vaalser Straße Aachen 52074 Deutschland;X-APPLE-RADIUS=500;X-TITLE=Alte Vaalser Straße:geo:6.0296122,50.7686866
END:VEVENT
BEGIN:VEVENT
DTSTART;TZID=Europe/Berlin:20240314T163000
DTEND;TZID=Europe/Berlin:20240314T180000
DTSTAMP:20260425T125624
CREATED:20230726T220616Z
LAST-MODIFIED:20230726T220619Z
UID:10007406-1710433800-1710439200@fv-vaalserquartier.de
SUMMARY:F2 - Training (2024)
DESCRIPTION:
URL:https://fv-vaalserquartier.de/veranstaltung/f2-training-2024-2/2024-03-14/
LOCATION:Kunstrasenplatz Alte Vaalser Straße\, Alte Vaalser Straße\, Aachen\, 52074\, Deutschland
CATEGORIES:Training
ATTACH;FMTTYPE=image/jpeg:https://fv-vaalserquartier.de/wp-content/uploads/2022/03/Asche-Eckejpg.jpg
ORGANIZER;CN="F2":MAILTO:f2-trainer@fv-vaalserquartier.de
GEO:50.7686866;6.0296122
X-APPLE-STRUCTURED-LOCATION;VALUE=URI;X-ADDRESS=Kunstrasenplatz Alte Vaalser Straße Alte Vaalser Straße Aachen 52074 Deutschland;X-APPLE-RADIUS=500;X-TITLE=Alte Vaalser Straße:geo:6.0296122,50.7686866
END:VEVENT
BEGIN:VEVENT
DTSTART;TZID=Europe/Berlin:20240312T163000
DTEND;TZID=Europe/Berlin:20240312T180000
DTSTAMP:20260425T125624
CREATED:20230726T220712Z
LAST-MODIFIED:20230726T220714Z
UID:10007438-1710261000-1710266400@fv-vaalserquartier.de
SUMMARY:F2 - Training
DESCRIPTION:
URL:https://fv-vaalserquartier.de/veranstaltung/f2-training-2/2024-03-12/
LOCATION:Kunstrasenplatz Alte Vaalser Straße\, Alte Vaalser Straße\, Aachen\, 52074\, Deutschland
CATEGORIES:Training
ATTACH;FMTTYPE=image/jpeg:https://fv-vaalserquartier.de/wp-content/uploads/2022/03/Asche-Eckejpg.jpg
ORGANIZER;CN="F2":MAILTO:f2-trainer@fv-vaalserquartier.de
GEO:50.7686866;6.0296122
X-APPLE-STRUCTURED-LOCATION;VALUE=URI;X-ADDRESS=Kunstrasenplatz Alte Vaalser Straße Alte Vaalser Straße Aachen 52074 Deutschland;X-APPLE-RADIUS=500;X-TITLE=Alte Vaalser Straße:geo:6.0296122,50.7686866
END:VEVENT
BEGIN:VEVENT
DTSTART;TZID=Europe/Berlin:20240309T100000
DTEND;TZID=Europe/Berlin:20240309T120000
DTSTAMP:20260425T125624
CREATED:20240310T171051Z
LAST-MODIFIED:20240310T171053Z
UID:10008024-1709978400-1709985600@fv-vaalserquartier.de
SUMMARY:KiFu - F2
DESCRIPTION:
URL:https://fv-vaalserquartier.de/veranstaltung/kifu-f2/
LOCATION:Kunstrasenplatz Alte Vaalser Straße\, Alte Vaalser Straße\, Aachen\, 52074\, Deutschland
CATEGORIES:Auf dem Sportplatz,Heimspiel,Meisterschaft,Spiel
ORGANIZER;CN="F2":MAILTO:f2-trainer@fv-vaalserquartier.de
GEO:50.7686866;6.0296122
X-APPLE-STRUCTURED-LOCATION;VALUE=URI;X-ADDRESS=Kunstrasenplatz Alte Vaalser Straße Alte Vaalser Straße Aachen 52074 Deutschland;X-APPLE-RADIUS=500;X-TITLE=Alte Vaalser Straße:geo:6.0296122,50.7686866
END:VEVENT
BEGIN:VEVENT
DTSTART;TZID=Europe/Berlin:20240307T163000
DTEND;TZID=Europe/Berlin:20240307T180000
DTSTAMP:20260425T125624
CREATED:20230726T220616Z
LAST-MODIFIED:20230726T220619Z
UID:10007405-1709829000-1709834400@fv-vaalserquartier.de
SUMMARY:F2 - Training (2024)
DESCRIPTION:
URL:https://fv-vaalserquartier.de/veranstaltung/f2-training-2024-2/2024-03-07/
LOCATION:Kunstrasenplatz Alte Vaalser Straße\, Alte Vaalser Straße\, Aachen\, 52074\, Deutschland
CATEGORIES:Training
ATTACH;FMTTYPE=image/jpeg:https://fv-vaalserquartier.de/wp-content/uploads/2022/03/Asche-Eckejpg.jpg
ORGANIZER;CN="F2":MAILTO:f2-trainer@fv-vaalserquartier.de
GEO:50.7686866;6.0296122
X-APPLE-STRUCTURED-LOCATION;VALUE=URI;X-ADDRESS=Kunstrasenplatz Alte Vaalser Straße Alte Vaalser Straße Aachen 52074 Deutschland;X-APPLE-RADIUS=500;X-TITLE=Alte Vaalser Straße:geo:6.0296122,50.7686866
END:VEVENT
BEGIN:VEVENT
DTSTART;TZID=Europe/Berlin:20240305T163000
DTEND;TZID=Europe/Berlin:20240305T180000
DTSTAMP:20260425T125624
CREATED:20230726T220712Z
LAST-MODIFIED:20230726T220714Z
UID:10007437-1709656200-1709661600@fv-vaalserquartier.de
SUMMARY:F2 - Training
DESCRIPTION:
URL:https://fv-vaalserquartier.de/veranstaltung/f2-training-2/2024-03-05/
LOCATION:Kunstrasenplatz Alte Vaalser Straße\, Alte Vaalser Straße\, Aachen\, 52074\, Deutschland
CATEGORIES:Training
ATTACH;FMTTYPE=image/jpeg:https://fv-vaalserquartier.de/wp-content/uploads/2022/03/Asche-Eckejpg.jpg
ORGANIZER;CN="F2":MAILTO:f2-trainer@fv-vaalserquartier.de
GEO:50.7686866;6.0296122
X-APPLE-STRUCTURED-LOCATION;VALUE=URI;X-ADDRESS=Kunstrasenplatz Alte Vaalser Straße Alte Vaalser Straße Aachen 52074 Deutschland;X-APPLE-RADIUS=500;X-TITLE=Alte Vaalser Straße:geo:6.0296122,50.7686866
END:VEVENT
BEGIN:VEVENT
DTSTART;TZID=Europe/Berlin:20240229T163000
DTEND;TZID=Europe/Berlin:20240229T180000
DTSTAMP:20260425T125624
CREATED:20230726T220616Z
LAST-MODIFIED:20230726T220619Z
UID:10007404-1709224200-1709229600@fv-vaalserquartier.de
SUMMARY:F2 - Training (2024)
DESCRIPTION:
URL:https://fv-vaalserquartier.de/veranstaltung/f2-training-2024-2/2024-02-29/
LOCATION:Kunstrasenplatz Alte Vaalser Straße\, Alte Vaalser Straße\, Aachen\, 52074\, Deutschland
CATEGORIES:Training
ATTACH;FMTTYPE=image/jpeg:https://fv-vaalserquartier.de/wp-content/uploads/2022/03/Asche-Eckejpg.jpg
ORGANIZER;CN="F2":MAILTO:f2-trainer@fv-vaalserquartier.de
GEO:50.7686866;6.0296122
X-APPLE-STRUCTURED-LOCATION;VALUE=URI;X-ADDRESS=Kunstrasenplatz Alte Vaalser Straße Alte Vaalser Straße Aachen 52074 Deutschland;X-APPLE-RADIUS=500;X-TITLE=Alte Vaalser Straße:geo:6.0296122,50.7686866
END:VEVENT
BEGIN:VEVENT
DTSTART;TZID=Europe/Berlin:20240227T163000
DTEND;TZID=Europe/Berlin:20240227T180000
DTSTAMP:20260425T125624
CREATED:20230726T220712Z
LAST-MODIFIED:20230726T220714Z
UID:10007436-1709051400-1709056800@fv-vaalserquartier.de
SUMMARY:F2 - Training
DESCRIPTION:
URL:https://fv-vaalserquartier.de/veranstaltung/f2-training-2/2024-02-27/
LOCATION:Kunstrasenplatz Alte Vaalser Straße\, Alte Vaalser Straße\, Aachen\, 52074\, Deutschland
CATEGORIES:Training
ATTACH;FMTTYPE=image/jpeg:https://fv-vaalserquartier.de/wp-content/uploads/2022/03/Asche-Eckejpg.jpg
ORGANIZER;CN="F2":MAILTO:f2-trainer@fv-vaalserquartier.de
GEO:50.7686866;6.0296122
X-APPLE-STRUCTURED-LOCATION;VALUE=URI;X-ADDRESS=Kunstrasenplatz Alte Vaalser Straße Alte Vaalser Straße Aachen 52074 Deutschland;X-APPLE-RADIUS=500;X-TITLE=Alte Vaalser Straße:geo:6.0296122,50.7686866
END:VEVENT
BEGIN:VEVENT
DTSTART;TZID=Europe/Berlin:20240222T163000
DTEND;TZID=Europe/Berlin:20240222T180000
DTSTAMP:20260425T125624
CREATED:20230726T220616Z
LAST-MODIFIED:20230726T220619Z
UID:10007403-1708619400-1708624800@fv-vaalserquartier.de
SUMMARY:F2 - Training (2024)
DESCRIPTION:
URL:https://fv-vaalserquartier.de/veranstaltung/f2-training-2024-2/2024-02-22/
LOCATION:Kunstrasenplatz Alte Vaalser Straße\, Alte Vaalser Straße\, Aachen\, 52074\, Deutschland
CATEGORIES:Training
ATTACH;FMTTYPE=image/jpeg:https://fv-vaalserquartier.de/wp-content/uploads/2022/03/Asche-Eckejpg.jpg
ORGANIZER;CN="F2":MAILTO:f2-trainer@fv-vaalserquartier.de
GEO:50.7686866;6.0296122
X-APPLE-STRUCTURED-LOCATION;VALUE=URI;X-ADDRESS=Kunstrasenplatz Alte Vaalser Straße Alte Vaalser Straße Aachen 52074 Deutschland;X-APPLE-RADIUS=500;X-TITLE=Alte Vaalser Straße:geo:6.0296122,50.7686866
END:VEVENT
BEGIN:VEVENT
DTSTART;TZID=Europe/Berlin:20240220T163000
DTEND;TZID=Europe/Berlin:20240220T180000
DTSTAMP:20260425T125624
CREATED:20230726T220712Z
LAST-MODIFIED:20230726T220714Z
UID:10007435-1708446600-1708452000@fv-vaalserquartier.de
SUMMARY:F2 - Training
DESCRIPTION:
URL:https://fv-vaalserquartier.de/veranstaltung/f2-training-2/2024-02-20/
LOCATION:Kunstrasenplatz Alte Vaalser Straße\, Alte Vaalser Straße\, Aachen\, 52074\, Deutschland
CATEGORIES:Training
ATTACH;FMTTYPE=image/jpeg:https://fv-vaalserquartier.de/wp-content/uploads/2022/03/Asche-Eckejpg.jpg
ORGANIZER;CN="F2":MAILTO:f2-trainer@fv-vaalserquartier.de
GEO:50.7686866;6.0296122
X-APPLE-STRUCTURED-LOCATION;VALUE=URI;X-ADDRESS=Kunstrasenplatz Alte Vaalser Straße Alte Vaalser Straße Aachen 52074 Deutschland;X-APPLE-RADIUS=500;X-TITLE=Alte Vaalser Straße:geo:6.0296122,50.7686866
END:VEVENT
END:VCALENDAR