BEGIN:VCALENDAR
VERSION:2.0
PRODID:-//FV Vaalserquartier - ECPv6.15.15//NONSGML v1.0//EN
CALSCALE:GREGORIAN
METHOD:PUBLISH
X-ORIGINAL-URL:https://fv-vaalserquartier.de
X-WR-CALDESC:Veranstaltungen für FV Vaalserquartier
REFRESH-INTERVAL;VALUE=DURATION:PT1H
X-Robots-Tag:noindex
X-PUBLISHED-TTL:PT1H
BEGIN:VTIMEZONE
TZID:Europe/Berlin
BEGIN:DAYLIGHT
TZOFFSETFROM:+0100
TZOFFSETTO:+0200
TZNAME:CEST
DTSTART:20220327T010000
END:DAYLIGHT
BEGIN:STANDARD
TZOFFSETFROM:+0200
TZOFFSETTO:+0100
TZNAME:CET
DTSTART:20221030T010000
END:STANDARD
BEGIN:DAYLIGHT
TZOFFSETFROM:+0100
TZOFFSETTO:+0200
TZNAME:CEST
DTSTART:20230326T010000
END:DAYLIGHT
BEGIN:STANDARD
TZOFFSETFROM:+0200
TZOFFSETTO:+0100
TZNAME:CET
DTSTART:20231029T010000
END:STANDARD
BEGIN:DAYLIGHT
TZOFFSETFROM:+0100
TZOFFSETTO:+0200
TZNAME:CEST
DTSTART:20240331T010000
END:DAYLIGHT
BEGIN:STANDARD
TZOFFSETFROM:+0200
TZOFFSETTO:+0100
TZNAME:CET
DTSTART:20241027T010000
END:STANDARD
BEGIN:DAYLIGHT
TZOFFSETFROM:+0100
TZOFFSETTO:+0200
TZNAME:CEST
DTSTART:20250330T010000
END:DAYLIGHT
BEGIN:STANDARD
TZOFFSETFROM:+0200
TZOFFSETTO:+0100
TZNAME:CET
DTSTART:20251026T010000
END:STANDARD
END:VTIMEZONE
BEGIN:VEVENT
DTSTART;TZID=Europe/Berlin:20240419T180000
DTEND;TZID=Europe/Berlin:20240419T193000
DTSTAMP:20260424T171251
CREATED:20230726T155130Z
LAST-MODIFIED:20230726T155134Z
UID:10006580-1713549600-1713555000@fv-vaalserquartier.de
SUMMARY:B2 - Training (Freitag Asche  2024)
DESCRIPTION:
URL:https://fv-vaalserquartier.de/veranstaltung/b2-training-freitag-asche-2024/2024-04-19/
LOCATION:Stadion West – Hartplatz
CATEGORIES:Training
ATTACH;FMTTYPE=image/jpeg:https://fv-vaalserquartier.de/wp-content/uploads/2022/03/Asche-Eckejpg.jpg
ORGANIZER;CN="B2":MAILTO:b2-trainer@fv-vaalserquartier.de
GEO:50,770118;6,044067
END:VEVENT
BEGIN:VEVENT
DTSTART;TZID=Europe/Berlin:20240412T180000
DTEND;TZID=Europe/Berlin:20240412T193000
DTSTAMP:20260424T171251
CREATED:20230726T155130Z
LAST-MODIFIED:20230726T155134Z
UID:10006579-1712944800-1712950200@fv-vaalserquartier.de
SUMMARY:B2 - Training (Freitag Asche  2024)
DESCRIPTION:
URL:https://fv-vaalserquartier.de/veranstaltung/b2-training-freitag-asche-2024/2024-04-12/
LOCATION:Stadion West – Hartplatz
CATEGORIES:Training
ATTACH;FMTTYPE=image/jpeg:https://fv-vaalserquartier.de/wp-content/uploads/2022/03/Asche-Eckejpg.jpg
ORGANIZER;CN="B2":MAILTO:b2-trainer@fv-vaalserquartier.de
GEO:50,770118;6,044067
END:VEVENT
BEGIN:VEVENT
DTSTART;TZID=Europe/Berlin:20240405T180000
DTEND;TZID=Europe/Berlin:20240405T193000
DTSTAMP:20260424T171251
CREATED:20230726T155130Z
LAST-MODIFIED:20230726T155134Z
UID:10006578-1712340000-1712345400@fv-vaalserquartier.de
SUMMARY:B2 - Training (Freitag Asche  2024)
DESCRIPTION:
URL:https://fv-vaalserquartier.de/veranstaltung/b2-training-freitag-asche-2024/2024-04-05/
LOCATION:Stadion West – Hartplatz
CATEGORIES:Training
ATTACH;FMTTYPE=image/jpeg:https://fv-vaalserquartier.de/wp-content/uploads/2022/03/Asche-Eckejpg.jpg
ORGANIZER;CN="B2":MAILTO:b2-trainer@fv-vaalserquartier.de
GEO:50,770118;6,044067
END:VEVENT
BEGIN:VEVENT
DTSTART;TZID=Europe/Berlin:20240329T180000
DTEND;TZID=Europe/Berlin:20240329T193000
DTSTAMP:20260424T171251
CREATED:20230726T121726Z
LAST-MODIFIED:20230726T133928Z
UID:10006251-1711735200-1711740600@fv-vaalserquartier.de
SUMMARY:B2 - Training (Freitag OVR  2024)
DESCRIPTION:
URL:https://fv-vaalserquartier.de/veranstaltung/b2-training-ovr-freitag-2024/2024-03-29/
LOCATION:Kunstrasenplatz Alte Vaalser Straße\, Alte Vaalser Straße\, Aachen\, 52074\, Deutschland
CATEGORIES:Training
ATTACH;FMTTYPE=image/jpeg:https://fv-vaalserquartier.de/wp-content/uploads/2022/02/20120928_131046.jpg
ORGANIZER;CN="B2":MAILTO:b2-trainer@fv-vaalserquartier.de
GEO:50.7686866;6.0296122
X-APPLE-STRUCTURED-LOCATION;VALUE=URI;X-ADDRESS=Kunstrasenplatz Alte Vaalser Straße Alte Vaalser Straße Aachen 52074 Deutschland;X-APPLE-RADIUS=500;X-TITLE=Alte Vaalser Straße:geo:6.0296122,50.7686866
END:VEVENT
BEGIN:VEVENT
DTSTART;TZID=Europe/Berlin:20240322T180000
DTEND;TZID=Europe/Berlin:20240322T193000
DTSTAMP:20260424T171251
CREATED:20230726T121726Z
LAST-MODIFIED:20230726T133928Z
UID:10006250-1711130400-1711135800@fv-vaalserquartier.de
SUMMARY:B2 - Training (Freitag OVR  2024)
DESCRIPTION:
URL:https://fv-vaalserquartier.de/veranstaltung/b2-training-ovr-freitag-2024/2024-03-22/
LOCATION:Kunstrasenplatz Alte Vaalser Straße\, Alte Vaalser Straße\, Aachen\, 52074\, Deutschland
CATEGORIES:Training
ATTACH;FMTTYPE=image/jpeg:https://fv-vaalserquartier.de/wp-content/uploads/2022/02/20120928_131046.jpg
ORGANIZER;CN="B2":MAILTO:b2-trainer@fv-vaalserquartier.de
GEO:50.7686866;6.0296122
X-APPLE-STRUCTURED-LOCATION;VALUE=URI;X-ADDRESS=Kunstrasenplatz Alte Vaalser Straße Alte Vaalser Straße Aachen 52074 Deutschland;X-APPLE-RADIUS=500;X-TITLE=Alte Vaalser Straße:geo:6.0296122,50.7686866
END:VEVENT
BEGIN:VEVENT
DTSTART;TZID=Europe/Berlin:20240315T180000
DTEND;TZID=Europe/Berlin:20240315T193000
DTSTAMP:20260424T171251
CREATED:20230726T121726Z
LAST-MODIFIED:20230726T133928Z
UID:10006249-1710525600-1710531000@fv-vaalserquartier.de
SUMMARY:B2 - Training (Freitag OVR  2024)
DESCRIPTION:
URL:https://fv-vaalserquartier.de/veranstaltung/b2-training-ovr-freitag-2024/2024-03-15/
LOCATION:Kunstrasenplatz Alte Vaalser Straße\, Alte Vaalser Straße\, Aachen\, 52074\, Deutschland
CATEGORIES:Training
ATTACH;FMTTYPE=image/jpeg:https://fv-vaalserquartier.de/wp-content/uploads/2022/02/20120928_131046.jpg
ORGANIZER;CN="B2":MAILTO:b2-trainer@fv-vaalserquartier.de
GEO:50.7686866;6.0296122
X-APPLE-STRUCTURED-LOCATION;VALUE=URI;X-ADDRESS=Kunstrasenplatz Alte Vaalser Straße Alte Vaalser Straße Aachen 52074 Deutschland;X-APPLE-RADIUS=500;X-TITLE=Alte Vaalser Straße:geo:6.0296122,50.7686866
END:VEVENT
BEGIN:VEVENT
DTSTART;TZID=Europe/Berlin:20240308T180000
DTEND;TZID=Europe/Berlin:20240308T193000
DTSTAMP:20260424T171251
CREATED:20230726T121726Z
LAST-MODIFIED:20230726T133928Z
UID:10006248-1709920800-1709926200@fv-vaalserquartier.de
SUMMARY:B2 - Training (Freitag OVR  2024)
DESCRIPTION:
URL:https://fv-vaalserquartier.de/veranstaltung/b2-training-ovr-freitag-2024/2024-03-08/
LOCATION:Kunstrasenplatz Alte Vaalser Straße\, Alte Vaalser Straße\, Aachen\, 52074\, Deutschland
CATEGORIES:Training
ATTACH;FMTTYPE=image/jpeg:https://fv-vaalserquartier.de/wp-content/uploads/2022/02/20120928_131046.jpg
ORGANIZER;CN="B2":MAILTO:b2-trainer@fv-vaalserquartier.de
GEO:50.7686866;6.0296122
X-APPLE-STRUCTURED-LOCATION;VALUE=URI;X-ADDRESS=Kunstrasenplatz Alte Vaalser Straße Alte Vaalser Straße Aachen 52074 Deutschland;X-APPLE-RADIUS=500;X-TITLE=Alte Vaalser Straße:geo:6.0296122,50.7686866
END:VEVENT
BEGIN:VEVENT
DTSTART;TZID=Europe/Berlin:20240301T180000
DTEND;TZID=Europe/Berlin:20240301T193000
DTSTAMP:20260424T171251
CREATED:20230726T121726Z
LAST-MODIFIED:20230726T133928Z
UID:10006247-1709316000-1709321400@fv-vaalserquartier.de
SUMMARY:B2 - Training (Freitag OVR  2024)
DESCRIPTION:
URL:https://fv-vaalserquartier.de/veranstaltung/b2-training-ovr-freitag-2024/2024-03-01/
LOCATION:Kunstrasenplatz Alte Vaalser Straße\, Alte Vaalser Straße\, Aachen\, 52074\, Deutschland
CATEGORIES:Training
ATTACH;FMTTYPE=image/jpeg:https://fv-vaalserquartier.de/wp-content/uploads/2022/02/20120928_131046.jpg
ORGANIZER;CN="B2":MAILTO:b2-trainer@fv-vaalserquartier.de
GEO:50.7686866;6.0296122
X-APPLE-STRUCTURED-LOCATION;VALUE=URI;X-ADDRESS=Kunstrasenplatz Alte Vaalser Straße Alte Vaalser Straße Aachen 52074 Deutschland;X-APPLE-RADIUS=500;X-TITLE=Alte Vaalser Straße:geo:6.0296122,50.7686866
END:VEVENT
BEGIN:VEVENT
DTSTART;TZID=Europe/Berlin:20240223T180000
DTEND;TZID=Europe/Berlin:20240223T193000
DTSTAMP:20260424T171251
CREATED:20230726T121726Z
LAST-MODIFIED:20230726T133928Z
UID:10006246-1708711200-1708716600@fv-vaalserquartier.de
SUMMARY:B2 - Training (Freitag OVR  2024)
DESCRIPTION:
URL:https://fv-vaalserquartier.de/veranstaltung/b2-training-ovr-freitag-2024/2024-02-23/
LOCATION:Kunstrasenplatz Alte Vaalser Straße\, Alte Vaalser Straße\, Aachen\, 52074\, Deutschland
CATEGORIES:Training
ATTACH;FMTTYPE=image/jpeg:https://fv-vaalserquartier.de/wp-content/uploads/2022/02/20120928_131046.jpg
ORGANIZER;CN="B2":MAILTO:b2-trainer@fv-vaalserquartier.de
GEO:50.7686866;6.0296122
X-APPLE-STRUCTURED-LOCATION;VALUE=URI;X-ADDRESS=Kunstrasenplatz Alte Vaalser Straße Alte Vaalser Straße Aachen 52074 Deutschland;X-APPLE-RADIUS=500;X-TITLE=Alte Vaalser Straße:geo:6.0296122,50.7686866
END:VEVENT
BEGIN:VEVENT
DTSTART;TZID=Europe/Berlin:20240216T180000
DTEND;TZID=Europe/Berlin:20240216T193000
DTSTAMP:20260424T171251
CREATED:20230726T121726Z
LAST-MODIFIED:20230726T133928Z
UID:10006245-1708106400-1708111800@fv-vaalserquartier.de
SUMMARY:B2 - Training (Freitag OVR  2024)
DESCRIPTION:
URL:https://fv-vaalserquartier.de/veranstaltung/b2-training-ovr-freitag-2024/2024-02-16/
LOCATION:Kunstrasenplatz Alte Vaalser Straße\, Alte Vaalser Straße\, Aachen\, 52074\, Deutschland
CATEGORIES:Training
ATTACH;FMTTYPE=image/jpeg:https://fv-vaalserquartier.de/wp-content/uploads/2022/02/20120928_131046.jpg
ORGANIZER;CN="B2":MAILTO:b2-trainer@fv-vaalserquartier.de
GEO:50.7686866;6.0296122
X-APPLE-STRUCTURED-LOCATION;VALUE=URI;X-ADDRESS=Kunstrasenplatz Alte Vaalser Straße Alte Vaalser Straße Aachen 52074 Deutschland;X-APPLE-RADIUS=500;X-TITLE=Alte Vaalser Straße:geo:6.0296122,50.7686866
END:VEVENT
BEGIN:VEVENT
DTSTART;TZID=Europe/Berlin:20240209T180000
DTEND;TZID=Europe/Berlin:20240209T193000
DTSTAMP:20260424T171251
CREATED:20230726T121726Z
LAST-MODIFIED:20230726T133928Z
UID:10006244-1707501600-1707507000@fv-vaalserquartier.de
SUMMARY:B2 - Training (Freitag OVR  2024)
DESCRIPTION:
URL:https://fv-vaalserquartier.de/veranstaltung/b2-training-ovr-freitag-2024/2024-02-09/
LOCATION:Kunstrasenplatz Alte Vaalser Straße\, Alte Vaalser Straße\, Aachen\, 52074\, Deutschland
CATEGORIES:Training
ATTACH;FMTTYPE=image/jpeg:https://fv-vaalserquartier.de/wp-content/uploads/2022/02/20120928_131046.jpg
ORGANIZER;CN="B2":MAILTO:b2-trainer@fv-vaalserquartier.de
GEO:50.7686866;6.0296122
X-APPLE-STRUCTURED-LOCATION;VALUE=URI;X-ADDRESS=Kunstrasenplatz Alte Vaalser Straße Alte Vaalser Straße Aachen 52074 Deutschland;X-APPLE-RADIUS=500;X-TITLE=Alte Vaalser Straße:geo:6.0296122,50.7686866
END:VEVENT
BEGIN:VEVENT
DTSTART;TZID=Europe/Berlin:20240202T180000
DTEND;TZID=Europe/Berlin:20240202T193000
DTSTAMP:20260424T171251
CREATED:20230726T121726Z
LAST-MODIFIED:20230726T133928Z
UID:10006243-1706896800-1706902200@fv-vaalserquartier.de
SUMMARY:B2 - Training (Freitag OVR  2024)
DESCRIPTION:
URL:https://fv-vaalserquartier.de/veranstaltung/b2-training-ovr-freitag-2024/2024-02-02/
LOCATION:Kunstrasenplatz Alte Vaalser Straße\, Alte Vaalser Straße\, Aachen\, 52074\, Deutschland
CATEGORIES:Training
ATTACH;FMTTYPE=image/jpeg:https://fv-vaalserquartier.de/wp-content/uploads/2022/02/20120928_131046.jpg
ORGANIZER;CN="B2":MAILTO:b2-trainer@fv-vaalserquartier.de
GEO:50.7686866;6.0296122
X-APPLE-STRUCTURED-LOCATION;VALUE=URI;X-ADDRESS=Kunstrasenplatz Alte Vaalser Straße Alte Vaalser Straße Aachen 52074 Deutschland;X-APPLE-RADIUS=500;X-TITLE=Alte Vaalser Straße:geo:6.0296122,50.7686866
END:VEVENT
BEGIN:VEVENT
DTSTART;TZID=Europe/Berlin:20240126T180000
DTEND;TZID=Europe/Berlin:20240126T193000
DTSTAMP:20260424T171251
CREATED:20230726T121726Z
LAST-MODIFIED:20230726T133928Z
UID:10006242-1706292000-1706297400@fv-vaalserquartier.de
SUMMARY:B2 - Training (Freitag OVR  2024)
DESCRIPTION:
URL:https://fv-vaalserquartier.de/veranstaltung/b2-training-ovr-freitag-2024/2024-01-26/
LOCATION:Kunstrasenplatz Alte Vaalser Straße\, Alte Vaalser Straße\, Aachen\, 52074\, Deutschland
CATEGORIES:Training
ATTACH;FMTTYPE=image/jpeg:https://fv-vaalserquartier.de/wp-content/uploads/2022/02/20120928_131046.jpg
ORGANIZER;CN="B2":MAILTO:b2-trainer@fv-vaalserquartier.de
GEO:50.7686866;6.0296122
X-APPLE-STRUCTURED-LOCATION;VALUE=URI;X-ADDRESS=Kunstrasenplatz Alte Vaalser Straße Alte Vaalser Straße Aachen 52074 Deutschland;X-APPLE-RADIUS=500;X-TITLE=Alte Vaalser Straße:geo:6.0296122,50.7686866
END:VEVENT
BEGIN:VEVENT
DTSTART;TZID=Europe/Berlin:20240119T180000
DTEND;TZID=Europe/Berlin:20240119T193000
DTSTAMP:20260424T171251
CREATED:20230726T121726Z
LAST-MODIFIED:20230726T133928Z
UID:10006241-1705687200-1705692600@fv-vaalserquartier.de
SUMMARY:B2 - Training (Freitag OVR  2024)
DESCRIPTION:
URL:https://fv-vaalserquartier.de/veranstaltung/b2-training-ovr-freitag-2024/2024-01-19/
LOCATION:Kunstrasenplatz Alte Vaalser Straße\, Alte Vaalser Straße\, Aachen\, 52074\, Deutschland
CATEGORIES:Training
ATTACH;FMTTYPE=image/jpeg:https://fv-vaalserquartier.de/wp-content/uploads/2022/02/20120928_131046.jpg
ORGANIZER;CN="B2":MAILTO:b2-trainer@fv-vaalserquartier.de
GEO:50.7686866;6.0296122
X-APPLE-STRUCTURED-LOCATION;VALUE=URI;X-ADDRESS=Kunstrasenplatz Alte Vaalser Straße Alte Vaalser Straße Aachen 52074 Deutschland;X-APPLE-RADIUS=500;X-TITLE=Alte Vaalser Straße:geo:6.0296122,50.7686866
END:VEVENT
BEGIN:VEVENT
DTSTART;TZID=Europe/Berlin:20240112T180000
DTEND;TZID=Europe/Berlin:20240112T193000
DTSTAMP:20260424T171251
CREATED:20230726T121726Z
LAST-MODIFIED:20230726T133928Z
UID:10006240-1705082400-1705087800@fv-vaalserquartier.de
SUMMARY:B2 - Training (Freitag OVR  2024)
DESCRIPTION:
URL:https://fv-vaalserquartier.de/veranstaltung/b2-training-ovr-freitag-2024/2024-01-12/
LOCATION:Kunstrasenplatz Alte Vaalser Straße\, Alte Vaalser Straße\, Aachen\, 52074\, Deutschland
CATEGORIES:Training
ATTACH;FMTTYPE=image/jpeg:https://fv-vaalserquartier.de/wp-content/uploads/2022/02/20120928_131046.jpg
ORGANIZER;CN="B2":MAILTO:b2-trainer@fv-vaalserquartier.de
GEO:50.7686866;6.0296122
X-APPLE-STRUCTURED-LOCATION;VALUE=URI;X-ADDRESS=Kunstrasenplatz Alte Vaalser Straße Alte Vaalser Straße Aachen 52074 Deutschland;X-APPLE-RADIUS=500;X-TITLE=Alte Vaalser Straße:geo:6.0296122,50.7686866
END:VEVENT
BEGIN:VEVENT
DTSTART;TZID=Europe/Berlin:20240110T180000
DTEND;TZID=Europe/Berlin:20240110T193000
DTSTAMP:20260424T171251
CREATED:20230726T121057Z
LAST-MODIFIED:20230726T133900Z
UID:10006208-1704909600-1704915000@fv-vaalserquartier.de
SUMMARY:B2 - Training (Mittwoch Asche 2024)
DESCRIPTION:
URL:https://fv-vaalserquartier.de/veranstaltung/b2-training-asche-mittwoch-2024/2024-01-10/
LOCATION:Stadion West – Hartplatz
CATEGORIES:Training
ATTACH;FMTTYPE=image/jpeg:https://fv-vaalserquartier.de/wp-content/uploads/2022/02/20120928_131046.jpg
ORGANIZER;CN="B2":MAILTO:b2-trainer@fv-vaalserquartier.de
GEO:50,770118;6,044067
END:VEVENT
BEGIN:VEVENT
DTSTART;TZID=Europe/Berlin:20231220T180000
DTEND;TZID=Europe/Berlin:20231220T193000
DTSTAMP:20260424T171251
CREATED:20230726T115505Z
LAST-MODIFIED:20230726T180147Z
UID:10006692-1703095200-1703100600@fv-vaalserquartier.de
SUMMARY:B2 - Training (Mittwoch OVR 2023)
DESCRIPTION:
URL:https://fv-vaalserquartier.de/veranstaltung/b2-training-2/2023-12-20/
LOCATION:Kunstrasenplatz Alte Vaalser Straße\, Alte Vaalser Straße\, Aachen\, 52074\, Deutschland
CATEGORIES:Training
ATTACH;FMTTYPE=image/jpeg:https://fv-vaalserquartier.de/wp-content/uploads/2022/02/20120928_131046.jpg
ORGANIZER;CN="B2":MAILTO:b2-trainer@fv-vaalserquartier.de
GEO:50.7686866;6.0296122
X-APPLE-STRUCTURED-LOCATION;VALUE=URI;X-ADDRESS=Kunstrasenplatz Alte Vaalser Straße Alte Vaalser Straße Aachen 52074 Deutschland;X-APPLE-RADIUS=500;X-TITLE=Alte Vaalser Straße:geo:6.0296122,50.7686866
END:VEVENT
BEGIN:VEVENT
DTSTART;TZID=Europe/Berlin:20231215T180000
DTEND;TZID=Europe/Berlin:20231215T193000
DTSTAMP:20260424T171251
CREATED:20230726T155008Z
LAST-MODIFIED:20230726T155010Z
UID:10006577-1702663200-1702668600@fv-vaalserquartier.de
SUMMARY:B2 - Training (Freitag Asche  2023)
DESCRIPTION:
URL:https://fv-vaalserquartier.de/veranstaltung/b2-training-freitag-asche-2023/2023-12-15/
LOCATION:Stadion West – Hartplatz
CATEGORIES:Training
ATTACH;FMTTYPE=image/jpeg:https://fv-vaalserquartier.de/wp-content/uploads/2022/03/Asche-Eckejpg.jpg
ORGANIZER;CN="B2":MAILTO:b2-trainer@fv-vaalserquartier.de
GEO:50,770118;6,044067
END:VEVENT
BEGIN:VEVENT
DTSTART;TZID=Europe/Berlin:20231215T180000
DTEND;TZID=Europe/Berlin:20231215T193000
DTSTAMP:20260424T171251
CREATED:20230726T115843Z
LAST-MODIFIED:20230726T133917Z
UID:10006239-1702663200-1702668600@fv-vaalserquartier.de
SUMMARY:B2 - Training (Freitag OVR  2023)
DESCRIPTION:
URL:https://fv-vaalserquartier.de/veranstaltung/b2-training-asche/2023-12-15/
LOCATION:Kunstrasenplatz Alte Vaalser Straße\, Alte Vaalser Straße\, Aachen\, 52074\, Deutschland
CATEGORIES:Training
ATTACH;FMTTYPE=image/jpeg:https://fv-vaalserquartier.de/wp-content/uploads/2022/02/20120928_131046.jpg
ORGANIZER;CN="B2":MAILTO:b2-trainer@fv-vaalserquartier.de
GEO:50.7686866;6.0296122
X-APPLE-STRUCTURED-LOCATION;VALUE=URI;X-ADDRESS=Kunstrasenplatz Alte Vaalser Straße Alte Vaalser Straße Aachen 52074 Deutschland;X-APPLE-RADIUS=500;X-TITLE=Alte Vaalser Straße:geo:6.0296122,50.7686866
END:VEVENT
BEGIN:VEVENT
DTSTART;TZID=Europe/Berlin:20231213T180000
DTEND;TZID=Europe/Berlin:20231213T193000
DTSTAMP:20260424T171251
CREATED:20230726T154119Z
LAST-MODIFIED:20230726T154122Z
UID:10006557-1702490400-1702495800@fv-vaalserquartier.de
SUMMARY:B2 - Training (Mittwoch OVR  2024)
DESCRIPTION:
URL:https://fv-vaalserquartier.de/veranstaltung/b2-training-mittwoch-ovr-2024/2023-12-13/
LOCATION:Kunstrasenplatz Alte Vaalser Straße\, Alte Vaalser Straße\, Aachen\, 52074\, Deutschland
CATEGORIES:Training
ATTACH;FMTTYPE=image/jpeg:https://fv-vaalserquartier.de/wp-content/uploads/2022/02/20120928_131046.jpg
ORGANIZER;CN="B2":MAILTO:b2-trainer@fv-vaalserquartier.de
GEO:50.7686866;6.0296122
X-APPLE-STRUCTURED-LOCATION;VALUE=URI;X-ADDRESS=Kunstrasenplatz Alte Vaalser Straße Alte Vaalser Straße Aachen 52074 Deutschland;X-APPLE-RADIUS=500;X-TITLE=Alte Vaalser Straße:geo:6.0296122,50.7686866
END:VEVENT
BEGIN:VEVENT
DTSTART;TZID=Europe/Berlin:20231213T180000
DTEND;TZID=Europe/Berlin:20231213T193000
DTSTAMP:20260424T171251
CREATED:20230726T115505Z
LAST-MODIFIED:20230726T180147Z
UID:10006691-1702490400-1702495800@fv-vaalserquartier.de
SUMMARY:B2 - Training (Mittwoch OVR 2023)
DESCRIPTION:
URL:https://fv-vaalserquartier.de/veranstaltung/b2-training-2/2023-12-13/
LOCATION:Kunstrasenplatz Alte Vaalser Straße\, Alte Vaalser Straße\, Aachen\, 52074\, Deutschland
CATEGORIES:Training
ATTACH;FMTTYPE=image/jpeg:https://fv-vaalserquartier.de/wp-content/uploads/2022/02/20120928_131046.jpg
ORGANIZER;CN="B2":MAILTO:b2-trainer@fv-vaalserquartier.de
GEO:50.7686866;6.0296122
X-APPLE-STRUCTURED-LOCATION;VALUE=URI;X-ADDRESS=Kunstrasenplatz Alte Vaalser Straße Alte Vaalser Straße Aachen 52074 Deutschland;X-APPLE-RADIUS=500;X-TITLE=Alte Vaalser Straße:geo:6.0296122,50.7686866
END:VEVENT
BEGIN:VEVENT
DTSTART;TZID=Europe/Berlin:20231208T180000
DTEND;TZID=Europe/Berlin:20231208T193000
DTSTAMP:20260424T171251
CREATED:20230726T155008Z
LAST-MODIFIED:20230726T155010Z
UID:10006576-1702058400-1702063800@fv-vaalserquartier.de
SUMMARY:B2 - Training (Freitag Asche  2023)
DESCRIPTION:
URL:https://fv-vaalserquartier.de/veranstaltung/b2-training-freitag-asche-2023/2023-12-08/
LOCATION:Stadion West – Hartplatz
CATEGORIES:Training
ATTACH;FMTTYPE=image/jpeg:https://fv-vaalserquartier.de/wp-content/uploads/2022/03/Asche-Eckejpg.jpg
ORGANIZER;CN="B2":MAILTO:b2-trainer@fv-vaalserquartier.de
GEO:50,770118;6,044067
END:VEVENT
BEGIN:VEVENT
DTSTART;TZID=Europe/Berlin:20231208T180000
DTEND;TZID=Europe/Berlin:20231208T193000
DTSTAMP:20260424T171251
CREATED:20230726T115843Z
LAST-MODIFIED:20230726T133917Z
UID:10006238-1702058400-1702063800@fv-vaalserquartier.de
SUMMARY:B2 - Training (Freitag OVR  2023)
DESCRIPTION:
URL:https://fv-vaalserquartier.de/veranstaltung/b2-training-asche/2023-12-08/
LOCATION:Kunstrasenplatz Alte Vaalser Straße\, Alte Vaalser Straße\, Aachen\, 52074\, Deutschland
CATEGORIES:Training
ATTACH;FMTTYPE=image/jpeg:https://fv-vaalserquartier.de/wp-content/uploads/2022/02/20120928_131046.jpg
ORGANIZER;CN="B2":MAILTO:b2-trainer@fv-vaalserquartier.de
GEO:50.7686866;6.0296122
X-APPLE-STRUCTURED-LOCATION;VALUE=URI;X-ADDRESS=Kunstrasenplatz Alte Vaalser Straße Alte Vaalser Straße Aachen 52074 Deutschland;X-APPLE-RADIUS=500;X-TITLE=Alte Vaalser Straße:geo:6.0296122,50.7686866
END:VEVENT
BEGIN:VEVENT
DTSTART;TZID=Europe/Berlin:20231206T180000
DTEND;TZID=Europe/Berlin:20231206T193000
DTSTAMP:20260424T171251
CREATED:20230726T154119Z
LAST-MODIFIED:20230726T154122Z
UID:10006556-1701885600-1701891000@fv-vaalserquartier.de
SUMMARY:B2 - Training (Mittwoch OVR  2024)
DESCRIPTION:
URL:https://fv-vaalserquartier.de/veranstaltung/b2-training-mittwoch-ovr-2024/2023-12-06/
LOCATION:Kunstrasenplatz Alte Vaalser Straße\, Alte Vaalser Straße\, Aachen\, 52074\, Deutschland
CATEGORIES:Training
ATTACH;FMTTYPE=image/jpeg:https://fv-vaalserquartier.de/wp-content/uploads/2022/02/20120928_131046.jpg
ORGANIZER;CN="B2":MAILTO:b2-trainer@fv-vaalserquartier.de
GEO:50.7686866;6.0296122
X-APPLE-STRUCTURED-LOCATION;VALUE=URI;X-ADDRESS=Kunstrasenplatz Alte Vaalser Straße Alte Vaalser Straße Aachen 52074 Deutschland;X-APPLE-RADIUS=500;X-TITLE=Alte Vaalser Straße:geo:6.0296122,50.7686866
END:VEVENT
BEGIN:VEVENT
DTSTART;TZID=Europe/Berlin:20231206T180000
DTEND;TZID=Europe/Berlin:20231206T193000
DTSTAMP:20260424T171251
CREATED:20230726T115505Z
LAST-MODIFIED:20230726T180147Z
UID:10006690-1701885600-1701891000@fv-vaalserquartier.de
SUMMARY:B2 - Training (Mittwoch OVR 2023)
DESCRIPTION:
URL:https://fv-vaalserquartier.de/veranstaltung/b2-training-2/2023-12-06/
LOCATION:Kunstrasenplatz Alte Vaalser Straße\, Alte Vaalser Straße\, Aachen\, 52074\, Deutschland
CATEGORIES:Training
ATTACH;FMTTYPE=image/jpeg:https://fv-vaalserquartier.de/wp-content/uploads/2022/02/20120928_131046.jpg
ORGANIZER;CN="B2":MAILTO:b2-trainer@fv-vaalserquartier.de
GEO:50.7686866;6.0296122
X-APPLE-STRUCTURED-LOCATION;VALUE=URI;X-ADDRESS=Kunstrasenplatz Alte Vaalser Straße Alte Vaalser Straße Aachen 52074 Deutschland;X-APPLE-RADIUS=500;X-TITLE=Alte Vaalser Straße:geo:6.0296122,50.7686866
END:VEVENT
BEGIN:VEVENT
DTSTART;TZID=Europe/Berlin:20231201T180000
DTEND;TZID=Europe/Berlin:20231201T193000
DTSTAMP:20260424T171251
CREATED:20230726T155008Z
LAST-MODIFIED:20230726T155010Z
UID:10006575-1701453600-1701459000@fv-vaalserquartier.de
SUMMARY:B2 - Training (Freitag Asche  2023)
DESCRIPTION:
URL:https://fv-vaalserquartier.de/veranstaltung/b2-training-freitag-asche-2023/2023-12-01/
LOCATION:Stadion West – Hartplatz
CATEGORIES:Training
ATTACH;FMTTYPE=image/jpeg:https://fv-vaalserquartier.de/wp-content/uploads/2022/03/Asche-Eckejpg.jpg
ORGANIZER;CN="B2":MAILTO:b2-trainer@fv-vaalserquartier.de
GEO:50,770118;6,044067
END:VEVENT
BEGIN:VEVENT
DTSTART;TZID=Europe/Berlin:20231201T180000
DTEND;TZID=Europe/Berlin:20231201T193000
DTSTAMP:20260424T171251
CREATED:20230726T115843Z
LAST-MODIFIED:20230726T133917Z
UID:10006237-1701453600-1701459000@fv-vaalserquartier.de
SUMMARY:B2 - Training (Freitag OVR  2023)
DESCRIPTION:
URL:https://fv-vaalserquartier.de/veranstaltung/b2-training-asche/2023-12-01/
LOCATION:Kunstrasenplatz Alte Vaalser Straße\, Alte Vaalser Straße\, Aachen\, 52074\, Deutschland
CATEGORIES:Training
ATTACH;FMTTYPE=image/jpeg:https://fv-vaalserquartier.de/wp-content/uploads/2022/02/20120928_131046.jpg
ORGANIZER;CN="B2":MAILTO:b2-trainer@fv-vaalserquartier.de
GEO:50.7686866;6.0296122
X-APPLE-STRUCTURED-LOCATION;VALUE=URI;X-ADDRESS=Kunstrasenplatz Alte Vaalser Straße Alte Vaalser Straße Aachen 52074 Deutschland;X-APPLE-RADIUS=500;X-TITLE=Alte Vaalser Straße:geo:6.0296122,50.7686866
END:VEVENT
BEGIN:VEVENT
DTSTART;TZID=Europe/Berlin:20231129T180000
DTEND;TZID=Europe/Berlin:20231129T193000
DTSTAMP:20260424T171251
CREATED:20230726T154119Z
LAST-MODIFIED:20230726T154122Z
UID:10006555-1701280800-1701286200@fv-vaalserquartier.de
SUMMARY:B2 - Training (Mittwoch OVR  2024)
DESCRIPTION:
URL:https://fv-vaalserquartier.de/veranstaltung/b2-training-mittwoch-ovr-2024/2023-11-29/
LOCATION:Kunstrasenplatz Alte Vaalser Straße\, Alte Vaalser Straße\, Aachen\, 52074\, Deutschland
CATEGORIES:Training
ATTACH;FMTTYPE=image/jpeg:https://fv-vaalserquartier.de/wp-content/uploads/2022/02/20120928_131046.jpg
ORGANIZER;CN="B2":MAILTO:b2-trainer@fv-vaalserquartier.de
GEO:50.7686866;6.0296122
X-APPLE-STRUCTURED-LOCATION;VALUE=URI;X-ADDRESS=Kunstrasenplatz Alte Vaalser Straße Alte Vaalser Straße Aachen 52074 Deutschland;X-APPLE-RADIUS=500;X-TITLE=Alte Vaalser Straße:geo:6.0296122,50.7686866
END:VEVENT
BEGIN:VEVENT
DTSTART;TZID=Europe/Berlin:20231129T180000
DTEND;TZID=Europe/Berlin:20231129T193000
DTSTAMP:20260424T171251
CREATED:20230726T115505Z
LAST-MODIFIED:20230726T180147Z
UID:10006689-1701280800-1701286200@fv-vaalserquartier.de
SUMMARY:B2 - Training (Mittwoch OVR 2023)
DESCRIPTION:
URL:https://fv-vaalserquartier.de/veranstaltung/b2-training-2/2023-11-29/
LOCATION:Kunstrasenplatz Alte Vaalser Straße\, Alte Vaalser Straße\, Aachen\, 52074\, Deutschland
CATEGORIES:Training
ATTACH;FMTTYPE=image/jpeg:https://fv-vaalserquartier.de/wp-content/uploads/2022/02/20120928_131046.jpg
ORGANIZER;CN="B2":MAILTO:b2-trainer@fv-vaalserquartier.de
GEO:50.7686866;6.0296122
X-APPLE-STRUCTURED-LOCATION;VALUE=URI;X-ADDRESS=Kunstrasenplatz Alte Vaalser Straße Alte Vaalser Straße Aachen 52074 Deutschland;X-APPLE-RADIUS=500;X-TITLE=Alte Vaalser Straße:geo:6.0296122,50.7686866
END:VEVENT
BEGIN:VEVENT
DTSTART;TZID=Europe/Berlin:20231124T180000
DTEND;TZID=Europe/Berlin:20231124T193000
DTSTAMP:20260424T171251
CREATED:20230726T155008Z
LAST-MODIFIED:20230726T155010Z
UID:10006574-1700848800-1700854200@fv-vaalserquartier.de
SUMMARY:B2 - Training (Freitag Asche  2023)
DESCRIPTION:
URL:https://fv-vaalserquartier.de/veranstaltung/b2-training-freitag-asche-2023/2023-11-24/
LOCATION:Stadion West – Hartplatz
CATEGORIES:Training
ATTACH;FMTTYPE=image/jpeg:https://fv-vaalserquartier.de/wp-content/uploads/2022/03/Asche-Eckejpg.jpg
ORGANIZER;CN="B2":MAILTO:b2-trainer@fv-vaalserquartier.de
GEO:50,770118;6,044067
END:VEVENT
END:VCALENDAR