BEGIN:VCALENDAR
VERSION:2.0
PRODID:-//FV Vaalserquartier - ECPv6.15.15//NONSGML v1.0//EN
CALSCALE:GREGORIAN
METHOD:PUBLISH
X-WR-CALNAME:FV Vaalserquartier
X-ORIGINAL-URL:https://fv-vaalserquartier.de
X-WR-CALDESC:Veranstaltungen für FV Vaalserquartier
REFRESH-INTERVAL;VALUE=DURATION:PT1H
X-Robots-Tag:noindex
X-PUBLISHED-TTL:PT1H
BEGIN:VTIMEZONE
TZID:Europe/Berlin
BEGIN:DAYLIGHT
TZOFFSETFROM:+0100
TZOFFSETTO:+0200
TZNAME:CEST
DTSTART:20230326T010000
END:DAYLIGHT
BEGIN:STANDARD
TZOFFSETFROM:+0200
TZOFFSETTO:+0100
TZNAME:CET
DTSTART:20231029T010000
END:STANDARD
BEGIN:DAYLIGHT
TZOFFSETFROM:+0100
TZOFFSETTO:+0200
TZNAME:CEST
DTSTART:20240331T010000
END:DAYLIGHT
BEGIN:STANDARD
TZOFFSETFROM:+0200
TZOFFSETTO:+0100
TZNAME:CET
DTSTART:20241027T010000
END:STANDARD
BEGIN:DAYLIGHT
TZOFFSETFROM:+0100
TZOFFSETTO:+0200
TZNAME:CEST
DTSTART:20250330T010000
END:DAYLIGHT
BEGIN:STANDARD
TZOFFSETFROM:+0200
TZOFFSETTO:+0100
TZNAME:CET
DTSTART:20251026T010000
END:STANDARD
END:VTIMEZONE
BEGIN:VEVENT
DTSTART;TZID=Europe/Berlin:20240627T180000
DTEND;TZID=Europe/Berlin:20240627T193000
DTSTAMP:20260425T143405
CREATED:20230726T183523Z
LAST-MODIFIED:20230726T183525Z
UID:10006962-1719511200-1719516600@fv-vaalserquartier.de
SUMMARY:A1 - Training (2024)
DESCRIPTION:
URL:https://fv-vaalserquartier.de/veranstaltung/a1-training-2024/2024-06-27/
LOCATION:Kunstrasenplatz Alte Vaalser Straße\, Alte Vaalser Straße\, Aachen\, 52074\, Deutschland
CATEGORIES:Training
ATTACH;FMTTYPE=image/jpeg:https://fv-vaalserquartier.de/wp-content/uploads/2022/02/20120928_131046.jpg
ORGANIZER;CN="A1":MAILTO:a1-trainer@fv-vaalserquartier.de
GEO:50.7686866;6.0296122
X-APPLE-STRUCTURED-LOCATION;VALUE=URI;X-ADDRESS=Kunstrasenplatz Alte Vaalser Straße Alte Vaalser Straße Aachen 52074 Deutschland;X-APPLE-RADIUS=500;X-TITLE=Alte Vaalser Straße:geo:6.0296122,50.7686866
END:VEVENT
BEGIN:VEVENT
DTSTART;TZID=Europe/Berlin:20240625T180000
DTEND;TZID=Europe/Berlin:20240625T193000
DTSTAMP:20260425T143405
CREATED:20230726T183523Z
LAST-MODIFIED:20230726T183525Z
UID:10006961-1719338400-1719343800@fv-vaalserquartier.de
SUMMARY:A1 - Training (2024)
DESCRIPTION:
URL:https://fv-vaalserquartier.de/veranstaltung/a1-training-2024/2024-06-25/
LOCATION:Kunstrasenplatz Alte Vaalser Straße\, Alte Vaalser Straße\, Aachen\, 52074\, Deutschland
CATEGORIES:Training
ATTACH;FMTTYPE=image/jpeg:https://fv-vaalserquartier.de/wp-content/uploads/2022/02/20120928_131046.jpg
ORGANIZER;CN="A1":MAILTO:a1-trainer@fv-vaalserquartier.de
GEO:50.7686866;6.0296122
X-APPLE-STRUCTURED-LOCATION;VALUE=URI;X-ADDRESS=Kunstrasenplatz Alte Vaalser Straße Alte Vaalser Straße Aachen 52074 Deutschland;X-APPLE-RADIUS=500;X-TITLE=Alte Vaalser Straße:geo:6.0296122,50.7686866
END:VEVENT
BEGIN:VEVENT
DTSTART;TZID=Europe/Berlin:20240620T180000
DTEND;TZID=Europe/Berlin:20240620T193000
DTSTAMP:20260425T143405
CREATED:20230726T183523Z
LAST-MODIFIED:20230726T183525Z
UID:10006960-1718906400-1718911800@fv-vaalserquartier.de
SUMMARY:A1 - Training (2024)
DESCRIPTION:
URL:https://fv-vaalserquartier.de/veranstaltung/a1-training-2024/2024-06-20/
LOCATION:Kunstrasenplatz Alte Vaalser Straße\, Alte Vaalser Straße\, Aachen\, 52074\, Deutschland
CATEGORIES:Training
ATTACH;FMTTYPE=image/jpeg:https://fv-vaalserquartier.de/wp-content/uploads/2022/02/20120928_131046.jpg
ORGANIZER;CN="A1":MAILTO:a1-trainer@fv-vaalserquartier.de
GEO:50.7686866;6.0296122
X-APPLE-STRUCTURED-LOCATION;VALUE=URI;X-ADDRESS=Kunstrasenplatz Alte Vaalser Straße Alte Vaalser Straße Aachen 52074 Deutschland;X-APPLE-RADIUS=500;X-TITLE=Alte Vaalser Straße:geo:6.0296122,50.7686866
END:VEVENT
BEGIN:VEVENT
DTSTART;TZID=Europe/Berlin:20240618T180000
DTEND;TZID=Europe/Berlin:20240618T193000
DTSTAMP:20260425T143405
CREATED:20230726T183523Z
LAST-MODIFIED:20230726T183525Z
UID:10006959-1718733600-1718739000@fv-vaalserquartier.de
SUMMARY:A1 - Training (2024)
DESCRIPTION:
URL:https://fv-vaalserquartier.de/veranstaltung/a1-training-2024/2024-06-18/
LOCATION:Kunstrasenplatz Alte Vaalser Straße\, Alte Vaalser Straße\, Aachen\, 52074\, Deutschland
CATEGORIES:Training
ATTACH;FMTTYPE=image/jpeg:https://fv-vaalserquartier.de/wp-content/uploads/2022/02/20120928_131046.jpg
ORGANIZER;CN="A1":MAILTO:a1-trainer@fv-vaalserquartier.de
GEO:50.7686866;6.0296122
X-APPLE-STRUCTURED-LOCATION;VALUE=URI;X-ADDRESS=Kunstrasenplatz Alte Vaalser Straße Alte Vaalser Straße Aachen 52074 Deutschland;X-APPLE-RADIUS=500;X-TITLE=Alte Vaalser Straße:geo:6.0296122,50.7686866
END:VEVENT
BEGIN:VEVENT
DTSTART;TZID=Europe/Berlin:20240613T180000
DTEND;TZID=Europe/Berlin:20240613T193000
DTSTAMP:20260425T143405
CREATED:20230726T183523Z
LAST-MODIFIED:20230726T183525Z
UID:10006958-1718301600-1718307000@fv-vaalserquartier.de
SUMMARY:A1 - Training (2024)
DESCRIPTION:
URL:https://fv-vaalserquartier.de/veranstaltung/a1-training-2024/2024-06-13/
LOCATION:Kunstrasenplatz Alte Vaalser Straße\, Alte Vaalser Straße\, Aachen\, 52074\, Deutschland
CATEGORIES:Training
ATTACH;FMTTYPE=image/jpeg:https://fv-vaalserquartier.de/wp-content/uploads/2022/02/20120928_131046.jpg
ORGANIZER;CN="A1":MAILTO:a1-trainer@fv-vaalserquartier.de
GEO:50.7686866;6.0296122
X-APPLE-STRUCTURED-LOCATION;VALUE=URI;X-ADDRESS=Kunstrasenplatz Alte Vaalser Straße Alte Vaalser Straße Aachen 52074 Deutschland;X-APPLE-RADIUS=500;X-TITLE=Alte Vaalser Straße:geo:6.0296122,50.7686866
END:VEVENT
BEGIN:VEVENT
DTSTART;TZID=Europe/Berlin:20240611T180000
DTEND;TZID=Europe/Berlin:20240611T193000
DTSTAMP:20260425T143405
CREATED:20230726T183523Z
LAST-MODIFIED:20230726T183525Z
UID:10006957-1718128800-1718134200@fv-vaalserquartier.de
SUMMARY:A1 - Training (2024)
DESCRIPTION:
URL:https://fv-vaalserquartier.de/veranstaltung/a1-training-2024/2024-06-11/
LOCATION:Kunstrasenplatz Alte Vaalser Straße\, Alte Vaalser Straße\, Aachen\, 52074\, Deutschland
CATEGORIES:Training
ATTACH;FMTTYPE=image/jpeg:https://fv-vaalserquartier.de/wp-content/uploads/2022/02/20120928_131046.jpg
ORGANIZER;CN="A1":MAILTO:a1-trainer@fv-vaalserquartier.de
GEO:50.7686866;6.0296122
X-APPLE-STRUCTURED-LOCATION;VALUE=URI;X-ADDRESS=Kunstrasenplatz Alte Vaalser Straße Alte Vaalser Straße Aachen 52074 Deutschland;X-APPLE-RADIUS=500;X-TITLE=Alte Vaalser Straße:geo:6.0296122,50.7686866
END:VEVENT
BEGIN:VEVENT
DTSTART;TZID=Europe/Berlin:20240606T180000
DTEND;TZID=Europe/Berlin:20240606T193000
DTSTAMP:20260425T143405
CREATED:20230726T183523Z
LAST-MODIFIED:20230726T183525Z
UID:10006956-1717696800-1717702200@fv-vaalserquartier.de
SUMMARY:A1 - Training (2024)
DESCRIPTION:
URL:https://fv-vaalserquartier.de/veranstaltung/a1-training-2024/2024-06-06/
LOCATION:Kunstrasenplatz Alte Vaalser Straße\, Alte Vaalser Straße\, Aachen\, 52074\, Deutschland
CATEGORIES:Training
ATTACH;FMTTYPE=image/jpeg:https://fv-vaalserquartier.de/wp-content/uploads/2022/02/20120928_131046.jpg
ORGANIZER;CN="A1":MAILTO:a1-trainer@fv-vaalserquartier.de
GEO:50.7686866;6.0296122
X-APPLE-STRUCTURED-LOCATION;VALUE=URI;X-ADDRESS=Kunstrasenplatz Alte Vaalser Straße Alte Vaalser Straße Aachen 52074 Deutschland;X-APPLE-RADIUS=500;X-TITLE=Alte Vaalser Straße:geo:6.0296122,50.7686866
END:VEVENT
BEGIN:VEVENT
DTSTART;TZID=Europe/Berlin:20240604T180000
DTEND;TZID=Europe/Berlin:20240604T193000
DTSTAMP:20260425T143405
CREATED:20230726T183523Z
LAST-MODIFIED:20230726T183525Z
UID:10006955-1717524000-1717529400@fv-vaalserquartier.de
SUMMARY:A1 - Training (2024)
DESCRIPTION:
URL:https://fv-vaalserquartier.de/veranstaltung/a1-training-2024/2024-06-04/
LOCATION:Kunstrasenplatz Alte Vaalser Straße\, Alte Vaalser Straße\, Aachen\, 52074\, Deutschland
CATEGORIES:Training
ATTACH;FMTTYPE=image/jpeg:https://fv-vaalserquartier.de/wp-content/uploads/2022/02/20120928_131046.jpg
ORGANIZER;CN="A1":MAILTO:a1-trainer@fv-vaalserquartier.de
GEO:50.7686866;6.0296122
X-APPLE-STRUCTURED-LOCATION;VALUE=URI;X-ADDRESS=Kunstrasenplatz Alte Vaalser Straße Alte Vaalser Straße Aachen 52074 Deutschland;X-APPLE-RADIUS=500;X-TITLE=Alte Vaalser Straße:geo:6.0296122,50.7686866
END:VEVENT
BEGIN:VEVENT
DTSTART;TZID=Europe/Berlin:20240530T180000
DTEND;TZID=Europe/Berlin:20240530T193000
DTSTAMP:20260425T143405
CREATED:20230726T183523Z
LAST-MODIFIED:20230726T183525Z
UID:10006954-1717092000-1717097400@fv-vaalserquartier.de
SUMMARY:A1 - Training (2024)
DESCRIPTION:
URL:https://fv-vaalserquartier.de/veranstaltung/a1-training-2024/2024-05-30/
LOCATION:Kunstrasenplatz Alte Vaalser Straße\, Alte Vaalser Straße\, Aachen\, 52074\, Deutschland
CATEGORIES:Training
ATTACH;FMTTYPE=image/jpeg:https://fv-vaalserquartier.de/wp-content/uploads/2022/02/20120928_131046.jpg
ORGANIZER;CN="A1":MAILTO:a1-trainer@fv-vaalserquartier.de
GEO:50.7686866;6.0296122
X-APPLE-STRUCTURED-LOCATION;VALUE=URI;X-ADDRESS=Kunstrasenplatz Alte Vaalser Straße Alte Vaalser Straße Aachen 52074 Deutschland;X-APPLE-RADIUS=500;X-TITLE=Alte Vaalser Straße:geo:6.0296122,50.7686866
END:VEVENT
BEGIN:VEVENT
DTSTART;TZID=Europe/Berlin:20240528T180000
DTEND;TZID=Europe/Berlin:20240528T193000
DTSTAMP:20260425T143405
CREATED:20230726T183523Z
LAST-MODIFIED:20230726T183525Z
UID:10006953-1716919200-1716924600@fv-vaalserquartier.de
SUMMARY:A1 - Training (2024)
DESCRIPTION:
URL:https://fv-vaalserquartier.de/veranstaltung/a1-training-2024/2024-05-28/
LOCATION:Kunstrasenplatz Alte Vaalser Straße\, Alte Vaalser Straße\, Aachen\, 52074\, Deutschland
CATEGORIES:Training
ATTACH;FMTTYPE=image/jpeg:https://fv-vaalserquartier.de/wp-content/uploads/2022/02/20120928_131046.jpg
ORGANIZER;CN="A1":MAILTO:a1-trainer@fv-vaalserquartier.de
GEO:50.7686866;6.0296122
X-APPLE-STRUCTURED-LOCATION;VALUE=URI;X-ADDRESS=Kunstrasenplatz Alte Vaalser Straße Alte Vaalser Straße Aachen 52074 Deutschland;X-APPLE-RADIUS=500;X-TITLE=Alte Vaalser Straße:geo:6.0296122,50.7686866
END:VEVENT
BEGIN:VEVENT
DTSTART;TZID=Europe/Berlin:20240523T180000
DTEND;TZID=Europe/Berlin:20240523T193000
DTSTAMP:20260425T143405
CREATED:20230726T183523Z
LAST-MODIFIED:20230726T183525Z
UID:10006952-1716487200-1716492600@fv-vaalserquartier.de
SUMMARY:A1 - Training (2024)
DESCRIPTION:
URL:https://fv-vaalserquartier.de/veranstaltung/a1-training-2024/2024-05-23/
LOCATION:Kunstrasenplatz Alte Vaalser Straße\, Alte Vaalser Straße\, Aachen\, 52074\, Deutschland
CATEGORIES:Training
ATTACH;FMTTYPE=image/jpeg:https://fv-vaalserquartier.de/wp-content/uploads/2022/02/20120928_131046.jpg
ORGANIZER;CN="A1":MAILTO:a1-trainer@fv-vaalserquartier.de
GEO:50.7686866;6.0296122
X-APPLE-STRUCTURED-LOCATION;VALUE=URI;X-ADDRESS=Kunstrasenplatz Alte Vaalser Straße Alte Vaalser Straße Aachen 52074 Deutschland;X-APPLE-RADIUS=500;X-TITLE=Alte Vaalser Straße:geo:6.0296122,50.7686866
END:VEVENT
BEGIN:VEVENT
DTSTART;TZID=Europe/Berlin:20240521T180000
DTEND;TZID=Europe/Berlin:20240521T193000
DTSTAMP:20260425T143405
CREATED:20230726T183523Z
LAST-MODIFIED:20230726T183525Z
UID:10006951-1716314400-1716319800@fv-vaalserquartier.de
SUMMARY:A1 - Training (2024)
DESCRIPTION:
URL:https://fv-vaalserquartier.de/veranstaltung/a1-training-2024/2024-05-21/
LOCATION:Kunstrasenplatz Alte Vaalser Straße\, Alte Vaalser Straße\, Aachen\, 52074\, Deutschland
CATEGORIES:Training
ATTACH;FMTTYPE=image/jpeg:https://fv-vaalserquartier.de/wp-content/uploads/2022/02/20120928_131046.jpg
ORGANIZER;CN="A1":MAILTO:a1-trainer@fv-vaalserquartier.de
GEO:50.7686866;6.0296122
X-APPLE-STRUCTURED-LOCATION;VALUE=URI;X-ADDRESS=Kunstrasenplatz Alte Vaalser Straße Alte Vaalser Straße Aachen 52074 Deutschland;X-APPLE-RADIUS=500;X-TITLE=Alte Vaalser Straße:geo:6.0296122,50.7686866
END:VEVENT
BEGIN:VEVENT
DTSTART;TZID=Europe/Berlin:20240516T180000
DTEND;TZID=Europe/Berlin:20240516T193000
DTSTAMP:20260425T143405
CREATED:20230726T183523Z
LAST-MODIFIED:20230726T183525Z
UID:10006950-1715882400-1715887800@fv-vaalserquartier.de
SUMMARY:A1 - Training (2024)
DESCRIPTION:
URL:https://fv-vaalserquartier.de/veranstaltung/a1-training-2024/2024-05-16/
LOCATION:Kunstrasenplatz Alte Vaalser Straße\, Alte Vaalser Straße\, Aachen\, 52074\, Deutschland
CATEGORIES:Training
ATTACH;FMTTYPE=image/jpeg:https://fv-vaalserquartier.de/wp-content/uploads/2022/02/20120928_131046.jpg
ORGANIZER;CN="A1":MAILTO:a1-trainer@fv-vaalserquartier.de
GEO:50.7686866;6.0296122
X-APPLE-STRUCTURED-LOCATION;VALUE=URI;X-ADDRESS=Kunstrasenplatz Alte Vaalser Straße Alte Vaalser Straße Aachen 52074 Deutschland;X-APPLE-RADIUS=500;X-TITLE=Alte Vaalser Straße:geo:6.0296122,50.7686866
END:VEVENT
BEGIN:VEVENT
DTSTART;TZID=Europe/Berlin:20240514T180000
DTEND;TZID=Europe/Berlin:20240514T193000
DTSTAMP:20260425T143405
CREATED:20230726T183523Z
LAST-MODIFIED:20230726T183525Z
UID:10006949-1715709600-1715715000@fv-vaalserquartier.de
SUMMARY:A1 - Training (2024)
DESCRIPTION:
URL:https://fv-vaalserquartier.de/veranstaltung/a1-training-2024/2024-05-14/
LOCATION:Kunstrasenplatz Alte Vaalser Straße\, Alte Vaalser Straße\, Aachen\, 52074\, Deutschland
CATEGORIES:Training
ATTACH;FMTTYPE=image/jpeg:https://fv-vaalserquartier.de/wp-content/uploads/2022/02/20120928_131046.jpg
ORGANIZER;CN="A1":MAILTO:a1-trainer@fv-vaalserquartier.de
GEO:50.7686866;6.0296122
X-APPLE-STRUCTURED-LOCATION;VALUE=URI;X-ADDRESS=Kunstrasenplatz Alte Vaalser Straße Alte Vaalser Straße Aachen 52074 Deutschland;X-APPLE-RADIUS=500;X-TITLE=Alte Vaalser Straße:geo:6.0296122,50.7686866
END:VEVENT
BEGIN:VEVENT
DTSTART;TZID=Europe/Berlin:20240509T180000
DTEND;TZID=Europe/Berlin:20240509T193000
DTSTAMP:20260425T143405
CREATED:20230726T183523Z
LAST-MODIFIED:20230726T183525Z
UID:10006948-1715277600-1715283000@fv-vaalserquartier.de
SUMMARY:A1 - Training (2024)
DESCRIPTION:
URL:https://fv-vaalserquartier.de/veranstaltung/a1-training-2024/2024-05-09/
LOCATION:Kunstrasenplatz Alte Vaalser Straße\, Alte Vaalser Straße\, Aachen\, 52074\, Deutschland
CATEGORIES:Training
ATTACH;FMTTYPE=image/jpeg:https://fv-vaalserquartier.de/wp-content/uploads/2022/02/20120928_131046.jpg
ORGANIZER;CN="A1":MAILTO:a1-trainer@fv-vaalserquartier.de
GEO:50.7686866;6.0296122
X-APPLE-STRUCTURED-LOCATION;VALUE=URI;X-ADDRESS=Kunstrasenplatz Alte Vaalser Straße Alte Vaalser Straße Aachen 52074 Deutschland;X-APPLE-RADIUS=500;X-TITLE=Alte Vaalser Straße:geo:6.0296122,50.7686866
END:VEVENT
BEGIN:VEVENT
DTSTART;TZID=Europe/Berlin:20240507T180000
DTEND;TZID=Europe/Berlin:20240507T193000
DTSTAMP:20260425T143405
CREATED:20230726T183523Z
LAST-MODIFIED:20230726T183525Z
UID:10006947-1715104800-1715110200@fv-vaalserquartier.de
SUMMARY:A1 - Training (2024)
DESCRIPTION:
URL:https://fv-vaalserquartier.de/veranstaltung/a1-training-2024/2024-05-07/
LOCATION:Kunstrasenplatz Alte Vaalser Straße\, Alte Vaalser Straße\, Aachen\, 52074\, Deutschland
CATEGORIES:Training
ATTACH;FMTTYPE=image/jpeg:https://fv-vaalserquartier.de/wp-content/uploads/2022/02/20120928_131046.jpg
ORGANIZER;CN="A1":MAILTO:a1-trainer@fv-vaalserquartier.de
GEO:50.7686866;6.0296122
X-APPLE-STRUCTURED-LOCATION;VALUE=URI;X-ADDRESS=Kunstrasenplatz Alte Vaalser Straße Alte Vaalser Straße Aachen 52074 Deutschland;X-APPLE-RADIUS=500;X-TITLE=Alte Vaalser Straße:geo:6.0296122,50.7686866
END:VEVENT
BEGIN:VEVENT
DTSTART;TZID=Europe/Berlin:20240502T180000
DTEND;TZID=Europe/Berlin:20240502T193000
DTSTAMP:20260425T143405
CREATED:20230726T183523Z
LAST-MODIFIED:20230726T183525Z
UID:10006946-1714672800-1714678200@fv-vaalserquartier.de
SUMMARY:A1 - Training (2024)
DESCRIPTION:
URL:https://fv-vaalserquartier.de/veranstaltung/a1-training-2024/2024-05-02/
LOCATION:Kunstrasenplatz Alte Vaalser Straße\, Alte Vaalser Straße\, Aachen\, 52074\, Deutschland
CATEGORIES:Training
ATTACH;FMTTYPE=image/jpeg:https://fv-vaalserquartier.de/wp-content/uploads/2022/02/20120928_131046.jpg
ORGANIZER;CN="A1":MAILTO:a1-trainer@fv-vaalserquartier.de
GEO:50.7686866;6.0296122
X-APPLE-STRUCTURED-LOCATION;VALUE=URI;X-ADDRESS=Kunstrasenplatz Alte Vaalser Straße Alte Vaalser Straße Aachen 52074 Deutschland;X-APPLE-RADIUS=500;X-TITLE=Alte Vaalser Straße:geo:6.0296122,50.7686866
END:VEVENT
BEGIN:VEVENT
DTSTART;TZID=Europe/Berlin:20240430T180000
DTEND;TZID=Europe/Berlin:20240430T193000
DTSTAMP:20260425T143405
CREATED:20230726T183523Z
LAST-MODIFIED:20230726T183525Z
UID:10006945-1714500000-1714505400@fv-vaalserquartier.de
SUMMARY:A1 - Training (2024)
DESCRIPTION:
URL:https://fv-vaalserquartier.de/veranstaltung/a1-training-2024/2024-04-30/
LOCATION:Kunstrasenplatz Alte Vaalser Straße\, Alte Vaalser Straße\, Aachen\, 52074\, Deutschland
CATEGORIES:Training
ATTACH;FMTTYPE=image/jpeg:https://fv-vaalserquartier.de/wp-content/uploads/2022/02/20120928_131046.jpg
ORGANIZER;CN="A1":MAILTO:a1-trainer@fv-vaalserquartier.de
GEO:50.7686866;6.0296122
X-APPLE-STRUCTURED-LOCATION;VALUE=URI;X-ADDRESS=Kunstrasenplatz Alte Vaalser Straße Alte Vaalser Straße Aachen 52074 Deutschland;X-APPLE-RADIUS=500;X-TITLE=Alte Vaalser Straße:geo:6.0296122,50.7686866
END:VEVENT
BEGIN:VEVENT
DTSTART;TZID=Europe/Berlin:20240425T180000
DTEND;TZID=Europe/Berlin:20240425T193000
DTSTAMP:20260425T143405
CREATED:20230726T183523Z
LAST-MODIFIED:20230726T183525Z
UID:10006944-1714068000-1714073400@fv-vaalserquartier.de
SUMMARY:A1 - Training (2024)
DESCRIPTION:
URL:https://fv-vaalserquartier.de/veranstaltung/a1-training-2024/2024-04-25/
LOCATION:Kunstrasenplatz Alte Vaalser Straße\, Alte Vaalser Straße\, Aachen\, 52074\, Deutschland
CATEGORIES:Training
ATTACH;FMTTYPE=image/jpeg:https://fv-vaalserquartier.de/wp-content/uploads/2022/02/20120928_131046.jpg
ORGANIZER;CN="A1":MAILTO:a1-trainer@fv-vaalserquartier.de
GEO:50.7686866;6.0296122
X-APPLE-STRUCTURED-LOCATION;VALUE=URI;X-ADDRESS=Kunstrasenplatz Alte Vaalser Straße Alte Vaalser Straße Aachen 52074 Deutschland;X-APPLE-RADIUS=500;X-TITLE=Alte Vaalser Straße:geo:6.0296122,50.7686866
END:VEVENT
BEGIN:VEVENT
DTSTART;TZID=Europe/Berlin:20240423T180000
DTEND;TZID=Europe/Berlin:20240423T193000
DTSTAMP:20260425T143405
CREATED:20230726T183523Z
LAST-MODIFIED:20230726T183525Z
UID:10006943-1713895200-1713900600@fv-vaalserquartier.de
SUMMARY:A1 - Training (2024)
DESCRIPTION:
URL:https://fv-vaalserquartier.de/veranstaltung/a1-training-2024/2024-04-23/
LOCATION:Kunstrasenplatz Alte Vaalser Straße\, Alte Vaalser Straße\, Aachen\, 52074\, Deutschland
CATEGORIES:Training
ATTACH;FMTTYPE=image/jpeg:https://fv-vaalserquartier.de/wp-content/uploads/2022/02/20120928_131046.jpg
ORGANIZER;CN="A1":MAILTO:a1-trainer@fv-vaalserquartier.de
GEO:50.7686866;6.0296122
X-APPLE-STRUCTURED-LOCATION;VALUE=URI;X-ADDRESS=Kunstrasenplatz Alte Vaalser Straße Alte Vaalser Straße Aachen 52074 Deutschland;X-APPLE-RADIUS=500;X-TITLE=Alte Vaalser Straße:geo:6.0296122,50.7686866
END:VEVENT
BEGIN:VEVENT
DTSTART;TZID=Europe/Berlin:20240418T180000
DTEND;TZID=Europe/Berlin:20240418T193000
DTSTAMP:20260425T143405
CREATED:20230726T183523Z
LAST-MODIFIED:20230726T183525Z
UID:10006942-1713463200-1713468600@fv-vaalserquartier.de
SUMMARY:A1 - Training (2024)
DESCRIPTION:
URL:https://fv-vaalserquartier.de/veranstaltung/a1-training-2024/2024-04-18/
LOCATION:Kunstrasenplatz Alte Vaalser Straße\, Alte Vaalser Straße\, Aachen\, 52074\, Deutschland
CATEGORIES:Training
ATTACH;FMTTYPE=image/jpeg:https://fv-vaalserquartier.de/wp-content/uploads/2022/02/20120928_131046.jpg
ORGANIZER;CN="A1":MAILTO:a1-trainer@fv-vaalserquartier.de
GEO:50.7686866;6.0296122
X-APPLE-STRUCTURED-LOCATION;VALUE=URI;X-ADDRESS=Kunstrasenplatz Alte Vaalser Straße Alte Vaalser Straße Aachen 52074 Deutschland;X-APPLE-RADIUS=500;X-TITLE=Alte Vaalser Straße:geo:6.0296122,50.7686866
END:VEVENT
BEGIN:VEVENT
DTSTART;TZID=Europe/Berlin:20240416T180000
DTEND;TZID=Europe/Berlin:20240416T193000
DTSTAMP:20260425T143405
CREATED:20230726T183523Z
LAST-MODIFIED:20230726T183525Z
UID:10006941-1713290400-1713295800@fv-vaalserquartier.de
SUMMARY:A1 - Training (2024)
DESCRIPTION:
URL:https://fv-vaalserquartier.de/veranstaltung/a1-training-2024/2024-04-16/
LOCATION:Kunstrasenplatz Alte Vaalser Straße\, Alte Vaalser Straße\, Aachen\, 52074\, Deutschland
CATEGORIES:Training
ATTACH;FMTTYPE=image/jpeg:https://fv-vaalserquartier.de/wp-content/uploads/2022/02/20120928_131046.jpg
ORGANIZER;CN="A1":MAILTO:a1-trainer@fv-vaalserquartier.de
GEO:50.7686866;6.0296122
X-APPLE-STRUCTURED-LOCATION;VALUE=URI;X-ADDRESS=Kunstrasenplatz Alte Vaalser Straße Alte Vaalser Straße Aachen 52074 Deutschland;X-APPLE-RADIUS=500;X-TITLE=Alte Vaalser Straße:geo:6.0296122,50.7686866
END:VEVENT
BEGIN:VEVENT
DTSTART;TZID=Europe/Berlin:20240411T180000
DTEND;TZID=Europe/Berlin:20240411T193000
DTSTAMP:20260425T143405
CREATED:20230726T183523Z
LAST-MODIFIED:20230726T183525Z
UID:10006940-1712858400-1712863800@fv-vaalserquartier.de
SUMMARY:A1 - Training (2024)
DESCRIPTION:
URL:https://fv-vaalserquartier.de/veranstaltung/a1-training-2024/2024-04-11/
LOCATION:Kunstrasenplatz Alte Vaalser Straße\, Alte Vaalser Straße\, Aachen\, 52074\, Deutschland
CATEGORIES:Training
ATTACH;FMTTYPE=image/jpeg:https://fv-vaalserquartier.de/wp-content/uploads/2022/02/20120928_131046.jpg
ORGANIZER;CN="A1":MAILTO:a1-trainer@fv-vaalserquartier.de
GEO:50.7686866;6.0296122
X-APPLE-STRUCTURED-LOCATION;VALUE=URI;X-ADDRESS=Kunstrasenplatz Alte Vaalser Straße Alte Vaalser Straße Aachen 52074 Deutschland;X-APPLE-RADIUS=500;X-TITLE=Alte Vaalser Straße:geo:6.0296122,50.7686866
END:VEVENT
BEGIN:VEVENT
DTSTART;TZID=Europe/Berlin:20240409T180000
DTEND;TZID=Europe/Berlin:20240409T193000
DTSTAMP:20260425T143405
CREATED:20230726T183523Z
LAST-MODIFIED:20230726T183525Z
UID:10006939-1712685600-1712691000@fv-vaalserquartier.de
SUMMARY:A1 - Training (2024)
DESCRIPTION:
URL:https://fv-vaalserquartier.de/veranstaltung/a1-training-2024/2024-04-09/
LOCATION:Kunstrasenplatz Alte Vaalser Straße\, Alte Vaalser Straße\, Aachen\, 52074\, Deutschland
CATEGORIES:Training
ATTACH;FMTTYPE=image/jpeg:https://fv-vaalserquartier.de/wp-content/uploads/2022/02/20120928_131046.jpg
ORGANIZER;CN="A1":MAILTO:a1-trainer@fv-vaalserquartier.de
GEO:50.7686866;6.0296122
X-APPLE-STRUCTURED-LOCATION;VALUE=URI;X-ADDRESS=Kunstrasenplatz Alte Vaalser Straße Alte Vaalser Straße Aachen 52074 Deutschland;X-APPLE-RADIUS=500;X-TITLE=Alte Vaalser Straße:geo:6.0296122,50.7686866
END:VEVENT
BEGIN:VEVENT
DTSTART;TZID=Europe/Berlin:20240404T180000
DTEND;TZID=Europe/Berlin:20240404T193000
DTSTAMP:20260425T143405
CREATED:20230726T183523Z
LAST-MODIFIED:20230726T183525Z
UID:10006938-1712253600-1712259000@fv-vaalserquartier.de
SUMMARY:A1 - Training (2024)
DESCRIPTION:
URL:https://fv-vaalserquartier.de/veranstaltung/a1-training-2024/2024-04-04/
LOCATION:Kunstrasenplatz Alte Vaalser Straße\, Alte Vaalser Straße\, Aachen\, 52074\, Deutschland
CATEGORIES:Training
ATTACH;FMTTYPE=image/jpeg:https://fv-vaalserquartier.de/wp-content/uploads/2022/02/20120928_131046.jpg
ORGANIZER;CN="A1":MAILTO:a1-trainer@fv-vaalserquartier.de
GEO:50.7686866;6.0296122
X-APPLE-STRUCTURED-LOCATION;VALUE=URI;X-ADDRESS=Kunstrasenplatz Alte Vaalser Straße Alte Vaalser Straße Aachen 52074 Deutschland;X-APPLE-RADIUS=500;X-TITLE=Alte Vaalser Straße:geo:6.0296122,50.7686866
END:VEVENT
BEGIN:VEVENT
DTSTART;TZID=Europe/Berlin:20240402T180000
DTEND;TZID=Europe/Berlin:20240402T193000
DTSTAMP:20260425T143405
CREATED:20230726T183523Z
LAST-MODIFIED:20230726T183525Z
UID:10006937-1712080800-1712086200@fv-vaalserquartier.de
SUMMARY:A1 - Training (2024)
DESCRIPTION:
URL:https://fv-vaalserquartier.de/veranstaltung/a1-training-2024/2024-04-02/
LOCATION:Kunstrasenplatz Alte Vaalser Straße\, Alte Vaalser Straße\, Aachen\, 52074\, Deutschland
CATEGORIES:Training
ATTACH;FMTTYPE=image/jpeg:https://fv-vaalserquartier.de/wp-content/uploads/2022/02/20120928_131046.jpg
ORGANIZER;CN="A1":MAILTO:a1-trainer@fv-vaalserquartier.de
GEO:50.7686866;6.0296122
X-APPLE-STRUCTURED-LOCATION;VALUE=URI;X-ADDRESS=Kunstrasenplatz Alte Vaalser Straße Alte Vaalser Straße Aachen 52074 Deutschland;X-APPLE-RADIUS=500;X-TITLE=Alte Vaalser Straße:geo:6.0296122,50.7686866
END:VEVENT
BEGIN:VEVENT
DTSTART;TZID=Europe/Berlin:20240328T180000
DTEND;TZID=Europe/Berlin:20240328T193000
DTSTAMP:20260425T143405
CREATED:20230726T183523Z
LAST-MODIFIED:20230726T183525Z
UID:10006936-1711648800-1711654200@fv-vaalserquartier.de
SUMMARY:A1 - Training (2024)
DESCRIPTION:
URL:https://fv-vaalserquartier.de/veranstaltung/a1-training-2024/2024-03-28/
LOCATION:Kunstrasenplatz Alte Vaalser Straße\, Alte Vaalser Straße\, Aachen\, 52074\, Deutschland
CATEGORIES:Training
ATTACH;FMTTYPE=image/jpeg:https://fv-vaalserquartier.de/wp-content/uploads/2022/02/20120928_131046.jpg
ORGANIZER;CN="A1":MAILTO:a1-trainer@fv-vaalserquartier.de
GEO:50.7686866;6.0296122
X-APPLE-STRUCTURED-LOCATION;VALUE=URI;X-ADDRESS=Kunstrasenplatz Alte Vaalser Straße Alte Vaalser Straße Aachen 52074 Deutschland;X-APPLE-RADIUS=500;X-TITLE=Alte Vaalser Straße:geo:6.0296122,50.7686866
END:VEVENT
BEGIN:VEVENT
DTSTART;TZID=Europe/Berlin:20240326T180000
DTEND;TZID=Europe/Berlin:20240326T193000
DTSTAMP:20260425T143405
CREATED:20230726T183523Z
LAST-MODIFIED:20230726T183525Z
UID:10006935-1711476000-1711481400@fv-vaalserquartier.de
SUMMARY:A1 - Training (2024)
DESCRIPTION:
URL:https://fv-vaalserquartier.de/veranstaltung/a1-training-2024/2024-03-26/
LOCATION:Kunstrasenplatz Alte Vaalser Straße\, Alte Vaalser Straße\, Aachen\, 52074\, Deutschland
CATEGORIES:Training
ATTACH;FMTTYPE=image/jpeg:https://fv-vaalserquartier.de/wp-content/uploads/2022/02/20120928_131046.jpg
ORGANIZER;CN="A1":MAILTO:a1-trainer@fv-vaalserquartier.de
GEO:50.7686866;6.0296122
X-APPLE-STRUCTURED-LOCATION;VALUE=URI;X-ADDRESS=Kunstrasenplatz Alte Vaalser Straße Alte Vaalser Straße Aachen 52074 Deutschland;X-APPLE-RADIUS=500;X-TITLE=Alte Vaalser Straße:geo:6.0296122,50.7686866
END:VEVENT
BEGIN:VEVENT
DTSTART;TZID=Europe/Berlin:20240321T180000
DTEND;TZID=Europe/Berlin:20240321T193000
DTSTAMP:20260425T143405
CREATED:20230726T183523Z
LAST-MODIFIED:20230726T183525Z
UID:10006934-1711044000-1711049400@fv-vaalserquartier.de
SUMMARY:A1 - Training (2024)
DESCRIPTION:
URL:https://fv-vaalserquartier.de/veranstaltung/a1-training-2024/2024-03-21/
LOCATION:Kunstrasenplatz Alte Vaalser Straße\, Alte Vaalser Straße\, Aachen\, 52074\, Deutschland
CATEGORIES:Training
ATTACH;FMTTYPE=image/jpeg:https://fv-vaalserquartier.de/wp-content/uploads/2022/02/20120928_131046.jpg
ORGANIZER;CN="A1":MAILTO:a1-trainer@fv-vaalserquartier.de
GEO:50.7686866;6.0296122
X-APPLE-STRUCTURED-LOCATION;VALUE=URI;X-ADDRESS=Kunstrasenplatz Alte Vaalser Straße Alte Vaalser Straße Aachen 52074 Deutschland;X-APPLE-RADIUS=500;X-TITLE=Alte Vaalser Straße:geo:6.0296122,50.7686866
END:VEVENT
BEGIN:VEVENT
DTSTART;TZID=Europe/Berlin:20240319T180000
DTEND;TZID=Europe/Berlin:20240319T193000
DTSTAMP:20260425T143405
CREATED:20230726T183523Z
LAST-MODIFIED:20230726T183525Z
UID:10006933-1710871200-1710876600@fv-vaalserquartier.de
SUMMARY:A1 - Training (2024)
DESCRIPTION:
URL:https://fv-vaalserquartier.de/veranstaltung/a1-training-2024/2024-03-19/
LOCATION:Kunstrasenplatz Alte Vaalser Straße\, Alte Vaalser Straße\, Aachen\, 52074\, Deutschland
CATEGORIES:Training
ATTACH;FMTTYPE=image/jpeg:https://fv-vaalserquartier.de/wp-content/uploads/2022/02/20120928_131046.jpg
ORGANIZER;CN="A1":MAILTO:a1-trainer@fv-vaalserquartier.de
GEO:50.7686866;6.0296122
X-APPLE-STRUCTURED-LOCATION;VALUE=URI;X-ADDRESS=Kunstrasenplatz Alte Vaalser Straße Alte Vaalser Straße Aachen 52074 Deutschland;X-APPLE-RADIUS=500;X-TITLE=Alte Vaalser Straße:geo:6.0296122,50.7686866
END:VEVENT
END:VCALENDAR